Workbook

Sheet Painel
B2: Planner Semanal e Mensal
B3: Seu mês em um calendário e as tarefas do dia, da semana e atrasadas em destaque. Anote as tarefas na aba Tarefas.
B5: TAREFAS CONCLUÍDAS | D5: PARA HOJE | E5: ESTA SEMANA | G5: ATRASADAS | J5: EM ANDAMENTO
B6: =IFERROR(COUNTIF(Tarefas!$F$6:$F$305,"Concluída")/COUNTA(Tarefas!$B$6:$B$305),0) -> 0.14285714 | D6: =COUNTIF(Tarefas!$G$6:$G$305,"Hoje") -> 1 | E6: =COUNTIF(Tarefas!$G$6:$G$305,"Esta semana") -> 5 | G6: =COUNTIF(Tarefas!$G$6:$G$305,"Atrasada") -> 1 | J6: =COUNTIF(Tarefas!$F$6:$F$305,"Fazendo") -> 3
B9: Mês do calendário: | C9: =DATE(YEAR(TODAY()),MONTH(TODAY()),1) -> 46296 | E9: ← mostra o mês atual. Para ver outro mês, digite a data (ex.: 01/12/2026).
J10: Próximas tarefas
B11: Domingo | C11: Segunda | D11: Terça | E11: Quarta | F11: Quinta | G11: Sexta | H11: Sábado | J11: Tarefa | K11: Prazo
B12: =($C$9-WEEKDAY($C$9)+1)+0 -> 46292 | C12: =($C$9-WEEKDAY($C$9)+1)+1 -> 46293 | D12: =($C$9-WEEKDAY($C$9)+1)+2 -> 46294 | E12: =($C$9-WEEKDAY($C$9)+1)+3 -> 46295 | F12: =($C$9-WEEKDAY($C$9)+1)+4 -> 46296 | G12: =($C$9-WEEKDAY($C$9)+1)+5 -> 46297 | H12: =($C$9-WEEKDAY($C$9)+1)+6 -> 46298 | J12: =IF(K12="","",INDEX(Tarefas!$B$6:$B$305,MATCH(K12,Tarefas!$I$6:$I$305,0))) -> Enviar relatório mensal | K12: =IFERROR(SMALL(Tarefas!$I$6:$I$305,1),"") -> 46311
B13: =IF(COUNTIFS(Tarefas!$E$6:$E$305,B12,Tarefas!$F$6:$F$305,"<>Concluída")=0,"",COUNTIFS(Tarefas!$E$6:$E$305,B12,Tarefas!$F$6:$F$305,"<>Concluída")&" tarefa"&IF(COUNTIFS(Tarefas!$E$6:$E$305,B12,Tarefas!$F$6:$F$305,"<>Concluída")>1,"s","")) | C13: =IF(COUNTIFS(Tarefas!$E$6:$E$305,C12,Tarefas!$F$6:$F$305,"<>Concluída")=0,"",COUNTIFS(Tarefas!$E$6:$E$305,C12,Tarefas!$F$6:$F$305,"<>Concluída")&" tarefa"&IF(COUNTIFS(Tarefas!$E$6:$E$305,C12,Tarefas!$F$6:$F$305,"<>Concluída")>1,"s","")) | D13: =IF(COUNTIFS(Tarefas!$E$6:$E$305,D12,Tarefas!$F$6:$F$305,"<>Concluída")=0,"",COUNTIFS(Tarefas!$E$6:$E$305,D12,Tarefas!$F$6:$F$305,"<>Concluída")&" tarefa"&IF(COUNTIFS(Tarefas!$E$6:$E$305,D12,Tarefas!$F$6:$F$305,"<>Concluída")>1,"s","")) | E13: =IF(COUNTIFS(Tarefas!$E$6:$E$305,E12,Tarefas!$F$6:$F$305,"<>Concluída")=0,"",COUNTIFS(Tarefas!$E$6:$E$305,E12,Tarefas!$F$6:$F$305,"<>Concluída")&" tarefa"&IF(COUNTIFS(Tarefas!$E$6:$E$305,E12,Tarefas!$F$6:$F$305,"<>Concluída")>1,"s","")) | F13: =IF(COUNTIFS(Tarefas!$E$6:$E$305,F12,Tarefas!$F$6:$F$305,"<>Concluída")=0,"",COUNTIFS(Tarefas!$E$6:$E$305,F12,Tarefas!$F$6:$F$305,"<>Concluída")&" tarefa"&IF(COUNTIFS(Tarefas!$E$6:$E$305,F12,Tarefas!$F$6:$F$305,"<>Concluída")>1,"s","")) | G13: =IF(COUNTIFS(Tarefas!$E$6:$E$305,G12,Tarefas!$F$6:$F$305,"<>Concluída")=0,"",COUNTIFS(Tarefas!$E$6:$E$305,G12,Tarefas!$F$6:$F$305,"<>Concluída")&" tarefa"&IF(COUNTIFS(Tarefas!$E$6:$E$305,G12,Tarefas!$F$6:$F$305,"<>Concluída")>1,"s","")) | H13: =IF(COUNTIFS(Tarefas!$E$6:$E$305,H12,Tarefas!$F$6:$F$305,"<>Concluída")=0,"",COUNTIFS(Tarefas!$E$6:$E$305,H12,Tarefas!$F$6:$F$305,"<>Concluída")&" tarefa"&IF(COUNTIFS(Tarefas!$E$6:$E$305,H12,Tarefas!$F$6:$F$305,"<>Concluída")>1,"s","")) | J13: =IF(K13="","",INDEX(Tarefas!$B$6:$B$305,MATCH(K13,Tarefas!$I$6:$I$305,0))) -> Pagar conta de luz | K13: =IFERROR(SMALL(Tarefas!$I$6:$I$305,2),"") -> 46313
B14: =($C$9-WEEKDAY($C$9)+1)+7 -> 46299 | C14: =($C$9-WEEKDAY($C$9)+1)+8 -> 46300 | D14: =($C$9-WEEKDAY($C$9)+1)+9 -> 46301 | E14: =($C$9-WEEKDAY($C$9)+1)+10 -> 46302 | F14: =($C$9-WEEKDAY($C$9)+1)+11 -> 46303 | G14: =($C$9-WEEKDAY($C$9)+1)+12 -> 46304 | H14: =($C$9-WEEKDAY($C$9)+1)+13 -> 46305 | J14: =IF(K14="","",INDEX(Tarefas!$B$6:$B$305,MATCH(K14,Tarefas!$I$6:$I$305,0))) -> Reunião com fornecedor | K14: =IFERROR(SMALL(Tarefas!$I$6:$I$305,3),"") -> 46314
B15: =IF(COUNTIFS(Tarefas!$E$6:$E$305,B14,Tarefas!$F$6:$F$305,"<>Concluída")=0,"",COUNTIFS(Tarefas!$E$6:$E$305,B14,Tarefas!$F$6:$F$305,"<>Concluída")&" tarefa"&IF(COUNTIFS(Tarefas!$E$6:$E$305,B14,Tarefas!$F$6:$F$305,"<>Concluída")>1,"s","")) | C15: =IF(COUNTIFS(Tarefas!$E$6:$E$305,C14,Tarefas!$F$6:$F$305,"<>Concluída")=0,"",COUNTIFS(Tarefas!$E$6:$E$305,C14,Tarefas!$F$6:$F$305,"<>Concluída")&" tarefa"&IF(COUNTIFS(Tarefas!$E$6:$E$305,C14,Tarefas!$F$6:$F$305,"<>Concluída")>1,"s","")) | D15: =IF(COUNTIFS(Tarefas!$E$6:$E$305,D14,Tarefas!$F$6:$F$305,"<>Concluída")=0,"",COUNTIFS(Tarefas!$E$6:$E$305,D14,Tarefas!$F$6:$F$305,"<>Concluída")&" tarefa"&IF(COUNTIFS(Tarefas!$E$6:$E$305,D14,Tarefas!$F$6:$F$305,"<>Concluída")>1,"s","")) | E15: =IF(COUNTIFS(Tarefas!$E$6:$E$305,E14,Tarefas!$F$6:$F$305,"<>Concluída")=0,"",COUNTIFS(Tarefas!$E$6:$E$305,E14,Tarefas!$F$6:$F$305,"<>Concluída")&" tarefa"&IF(COUNTIFS(Tarefas!$E$6:$E$305,E14,Tarefas!$F$6:$F$305,"<>Concluída")>1,"s","")) | F15: =IF(COUNTIFS(Tarefas!$E$6:$E$305,F14,Tarefas!$F$6:$F$305,"<>Concluída")=0,"",COUNTIFS(Tarefas!$E$6:$E$305,F14,Tarefas!$F$6:$F$305,"<>Concluída")&" tarefa"&IF(COUNTIFS(Tarefas!$E$6:$E$305,F14,Tarefas!$F$6:$F$305,"<>Concluída")>1,"s","")) | G15: =IF(COUNTIFS(Tarefas!$E$6:$E$305,G14,Tarefas!$F$6:$F$305,"<>Concluída")=0,"",COUNTIFS(Tarefas!$E$6:$E$305,G14,Tarefas!$F$6:$F$305,"<>Concluída")&" tarefa"&IF(COUNTIFS(Tarefas!$E$6:$E$305,G14,Tarefas!$F$6:$F$305,"<>Concluída")>1,"s","")) | H15: =IF(COUNTIFS(Tarefas!$E$6:$E$305,H14,Tarefas!$F$6:$F$305,"<>Concluída")=0,"",COUNTIFS(Tarefas!$E$6:$E$305,H14,Tarefas!$F$6:$F$305,"<>Concluída")&" tarefa"&IF(COUNTIFS(Tarefas!$E$6:$E$305,H14,Tarefas!$F$6:$F$305,"<>Concluída")>1,"s","")) | J15: =IF(K15="","",INDEX(Tarefas!$B$6:$B$305,MATCH(K15,Tarefas!$I$6:$I$305,0))) -> Revisar capítulo 4 | K15: =IFERROR(SMALL(Tarefas!$I$6:$I$305,4),"") -> 46315
B16: =($C$9-WEEKDAY($C$9)+1)+14 -> 46306 | C16: =($C$9-WEEKDAY($C$9)+1)+15 -> 46307 | D16: =($C$9-WEEKDAY($C$9)+1)+16 -> 46308 | E16: =($C$9-WEEKDAY($C$9)+1)+17 -> 46309 | F16: =($C$9-WEEKDAY($C$9)+1)+18 -> 46310 | G16: =($C$9-WEEKDAY($C$9)+1)+19 -> 46311 | H16: =($C$9-WEEKDAY($C$9)+1)+20 -> 46312 | J16: =IF(K16="","",INDEX(Tarefas!$B$6:$B$305,MATCH(K16,Tarefas!$I$6:$I$305,0))) -> Consulta no dentista | K16: =IFERROR(SMALL(Tarefas!$I$6:$I$305,5),"") -> 46316
B17: =IF(COUNTIFS(Tarefas!$E$6:$E$305,B16,Tarefas!$F$6:$F$305,"<>Concluída")=0,"",COUNTIFS(Tarefas!$E$6:$E$305,B16,Tarefas!$F$6:$F$305,"<>Concluída")&" tarefa"&IF(COUNTIFS(Tarefas!$E$6:$E$305,B16,Tarefas!$F$6:$F$305,"<>Concluída")>1,"s","")) | C17: =IF(COUNTIFS(Tarefas!$E$6:$E$305,C16,Tarefas!$F$6:$F$305,"<>Concluída")=0,"",COUNTIFS(Tarefas!$E$6:$E$305,C16,Tarefas!$F$6:$F$305,"<>Concluída")&" tarefa"&IF(COUNTIFS(Tarefas!$E$6:$E$305,C16,Tarefas!$F$6:$F$305,"<>Concluída")>1,"s","")) | D17: =IF(COUNTIFS(Tarefas!$E$6:$E$305,D16,Tarefas!$F$6:$F$305,"<>Concluída")=0,"",COUNTIFS(Tarefas!$E$6:$E$305,D16,Tarefas!$F$6:$F$305,"<>Concluída")&" tarefa"&IF(COUNTIFS(Tarefas!$E$6:$E$305,D16,Tarefas!$F$6:$F$305,"<>Concluída")>1,"s","")) | E17: =IF(COUNTIFS(Tarefas!$E$6:$E$305,E16,Tarefas!$F$6:$F$305,"<>Concluída")=0,"",COUNTIFS(Tarefas!$E$6:$E$305,E16,Tarefas!$F$6:$F$305,"<>Concluída")&" tarefa"&IF(COUNTIFS(Tarefas!$E$6:$E$305,E16,Tarefas!$F$6:$F$305,"<>Concluída")>1,"s","")) | F17: =IF(COUNTIFS(Tarefas!$E$6:$E$305,F16,Tarefas!$F$6:$F$305,"<>Concluída")=0,"",COUNTIFS(Tarefas!$E$6:$E$305,F16,Tarefas!$F$6:$F$305,"<>Concluída")&" tarefa"&IF(COUNTIFS(Tarefas!$E$6:$E$305,F16,Tarefas!$F$6:$F$305,"<>Concluída")>1,"s","")) | G17: =IF(COUNTIFS(Tarefas!$E$6:$E$305,G16,Tarefas!$F$6:$F$305,"<>Concluída")=0,"",COUNTIFS(Tarefas!$E$6:$E$305,G16,Tarefas!$F$6:$F$305,"<>Concluída")&" tarefa"&IF(COUNTIFS(Tarefas!$E$6:$E$305,G16,Tarefas!$F$6:$F$305,"<>Concluída")>1,"s","")) -> 1 tarefa | H17: =IF(COUNTIFS(Tarefas!$E$6:$E$305,H16,Tarefas!$F$6:$F$305,"<>Concluída")=0,"",COUNTIFS(Tarefas!$E$6:$E$305,H16,Tarefas!$F$6:$F$305,"<>Concluída")&" tarefa"&IF(COUNTIFS(Tarefas!$E$6:$E$305,H16,Tarefas!$F$6:$F$305,"<>Concluída")>1,"s","")) | J17: =IF(K17="","",INDEX(Tarefas!$B$6:$B$305,MATCH(K17,Tarefas!$I$6:$I$305,0))) -> Comprar presente da mãe | K17: =IFERROR(SMALL(Tarefas!$I$6:$I$305,6),"") -> 46318
B18: =($C$9-WEEKDAY($C$9)+1)+21 -> 46313 | C18: =($C$9-WEEKDAY($C$9)+1)+22 -> 46314 | D18: =($C$9-WEEKDAY($C$9)+1)+23 -> 46315 | E18: =($C$9-WEEKDAY($C$9)+1)+24 -> 46316 | F18: =($C$9-WEEKDAY($C$9)+1)+25 -> 46317 | G18: =($C$9-WEEKDAY($C$9)+1)+26 -> 46318 | H18: =($C$9-WEEKDAY($C$9)+1)+27 -> 46319 | J18: =IF(K18="","",INDEX(Tarefas!$B$6:$B$305,MATCH(K18,Tarefas!$I$6:$I$305,0))) -> Academia 3x na semana | K18: =IFERROR(SMALL(Tarefas!$I$6:$I$305,7),"") -> 46319
B19: =IF(COUNTIFS(Tarefas!$E$6:$E$305,B18,Tarefas!$F$6:$F$305,"<>Concluída")=0,"",COUNTIFS(Tarefas!$E$6:$E$305,B18,Tarefas!$F$6:$F$305,"<>Concluída")&" tarefa"&IF(COUNTIFS(Tarefas!$E$6:$E$305,B18,Tarefas!$F$6:$F$305,"<>Concluída")>1,"s","")) -> 1 tarefa | C19: =IF(COUNTIFS(Tarefas!$E$6:$E$305,C18,Tarefas!$F$6:$F$305,"<>Concluída")=0,"",COUNTIFS(Tarefas!$E$6:$E$305,C18,Tarefas!$F$6:$F$305,"<>Concluída")&" tarefa"&IF(COUNTIFS(Tarefas!$E$6:$E$305,C18,Tarefas!$F$6:$F$305,"<>Concluída")>1,"s","")) -> 1 tarefa | D19: =IF(COUNTIFS(Tarefas!$E$6:$E$305,D18,Tarefas!$F$6:$F$305,"<>Concluída")=0,"",COUNTIFS(Tarefas!$E$6:$E$305,D18,Tarefas!$F$6:$F$305,"<>Concluída")&" tarefa"&IF(COUNTIFS(Tarefas!$E$6:$E$305,D18,Tarefas!$F$6:$F$305,"<>Concluída")>1,"s","")) -> 1 tarefa | E19: =IF(COUNTIFS(Tarefas!$E$6:$E$305,E18,Tarefas!$F$6:$F$305,"<>Concluída")=0,"",COUNTIFS(Tarefas!$E$6:$E$305,E18,Tarefas!$F$6:$F$305,"<>Concluída")&" tarefa"&IF(COUNTIFS(Tarefas!$E$6:$E$305,E18,Tarefas!$F$6:$F$305,"<>Concluída")>1,"s","")) -> 1 tarefa | F19: =IF(COUNTIFS(Tarefas!$E$6:$E$305,F18,Tarefas!$F$6:$F$305,"<>Concluída")=0,"",COUNTIFS(Tarefas!$E$6:$E$305,F18,Tarefas!$F$6:$F$305,"<>Concluída")&" tarefa"&IF(COUNTIFS(Tarefas!$E$6:$E$305,F18,Tarefas!$F$6:$F$305,"<>Concluída")>1,"s","")) | G19: =IF(COUNTIFS(Tarefas!$E$6:$E$305,G18,Tarefas!$F$6:$F$305,"<>Concluída")=0,"",COUNTIFS(Tarefas!$E$6:$E$305,G18,Tarefas!$F$6:$F$305,"<>Concluída")&" tarefa"&IF(COUNTIFS(Tarefas!$E$6:$E$305,G18,Tarefas!$F$6:$F$305,"<>Concluída")>1,"s","")) -> 1 tarefa | H19: =IF(COUNTIFS(Tarefas!$E$6:$E$305,H18,Tarefas!$F$6:$F$305,"<>Concluída")=0,"",COUNTIFS(Tarefas!$E$6:$E$305,H18,Tarefas!$F$6:$F$305,"<>Concluída")&" tarefa"&IF(COUNTIFS(Tarefas!$E$6:$E$305,H18,Tarefas!$F$6:$F$305,"<>Concluída")>1,"s","")) -> 1 tarefa | J19: =IF(K19="","",INDEX(Tarefas!$B$6:$B$305,MATCH(K19,Tarefas!$I$6:$I$305,0))) -> Preparar apresentação | K19: =IFERROR(SMALL(Tarefas!$I$6:$I$305,8),"") -> 46321
B20: =($C$9-WEEKDAY($C$9)+1)+28 -> 46320 | C20: =($C$9-WEEKDAY($C$9)+1)+29 -> 46321 | D20: =($C$9-WEEKDAY($C$9)+1)+30 -> 46322 | E20: =($C$9-WEEKDAY($C$9)+1)+31 -> 46323 | F20: =($C$9-WEEKDAY($C$9)+1)+32 -> 46324 | G20: =($C$9-WEEKDAY($C$9)+1)+33 -> 46325 | H20: =($C$9-WEEKDAY($C$9)+1)+34 -> 46326 | J20: =IF(K20="","",INDEX(Tarefas!$B$6:$B$305,MATCH(K20,Tarefas!$I$6:$I$305,0))) -> Organizar armário | K20: =IFERROR(SMALL(Tarefas!$I$6:$I$305,9),"") -> 46322
B21: =IF(COUNTIFS(Tarefas!$E$6:$E$305,B20,Tarefas!$F$6:$F$305,"<>Concluída")=0,"",COUNTIFS(Tarefas!$E$6:$E$305,B20,Tarefas!$F$6:$F$305,"<>Concluída")&" tarefa"&IF(COUNTIFS(Tarefas!$E$6:$E$305,B20,Tarefas!$F$6:$F$305,"<>Concluída")>1,"s","")) | C21: =IF(COUNTIFS(Tarefas!$E$6:$E$305,C20,Tarefas!$F$6:$F$305,"<>Concluída")=0,"",COUNTIFS(Tarefas!$E$6:$E$305,C20,Tarefas!$F$6:$F$305,"<>Concluída")&" tarefa"&IF(COUNTIFS(Tarefas!$E$6:$E$305,C20,Tarefas!$F$6:$F$305,"<>Concluída")>1,"s","")) -> 1 tarefa | D21: =IF(COUNTIFS(Tarefas!$E$6:$E$305,D20,Tarefas!$F$6:$F$305,"<>Concluída")=0,"",COUNTIFS(Tarefas!$E$6:$E$305,D20,Tarefas!$F$6:$F$305,"<>Concluída")&" tarefa"&IF(COUNTIFS(Tarefas!$E$6:$E$305,D20,Tarefas!$F$6:$F$305,"<>Concluída")>1,"s","")) -> 1 tarefa | E21: =IF(COUNTIFS(Tarefas!$E$6:$E$305,E20,Tarefas!$F$6:$F$305,"<>Concluída")=0,"",COUNTIFS(Tarefas!$E$6:$E$305,E20,Tarefas!$F$6:$F$305,"<>Concluída")&" tarefa"&IF(COUNTIFS(Tarefas!$E$6:$E$305,E20,Tarefas!$F$6:$F$305,"<>Concluída")>1,"s","")) | F21: =IF(COUNTIFS(Tarefas!$E$6:$E$305,F20,Tarefas!$F$6:$F$305,"<>Concluída")=0,"",COUNTIFS(Tarefas!$E$6:$E$305,F20,Tarefas!$F$6:$F$305,"<>Concluída")&" tarefa"&IF(COUNTIFS(Tarefas!$E$6:$E$305,F20,Tarefas!$F$6:$F$305,"<>Concluída")>1,"s","")) | G21: =IF(COUNTIFS(Tarefas!$E$6:$E$305,G20,Tarefas!$F$6:$F$305,"<>Concluída")=0,"",COUNTIFS(Tarefas!$E$6:$E$305,G20,Tarefas!$F$6:$F$305,"<>Concluída")&" tarefa"&IF(COUNTIFS(Tarefas!$E$6:$E$305,G20,Tarefas!$F$6:$F$305,"<>Concluída")>1,"s","")) -> 1 tarefa | H21: =IF(COUNTIFS(Tarefas!$E$6:$E$305,H20,Tarefas!$F$6:$F$305,"<>Concluída")=0,"",COUNTIFS(Tarefas!$E$6:$E$305,H20,Tarefas!$F$6:$F$305,"<>Concluída")&" tarefa"&IF(COUNTIFS(Tarefas!$E$6:$E$305,H20,Tarefas!$F$6:$F$305,"<>Concluída")>1,"s","")) | J21: =IF(K21="","",INDEX(Tarefas!$B$6:$B$305,MATCH(K21,Tarefas!$I$6:$I$305,0))) -> Renovar seguro do carro | K21: =IFERROR(SMALL(Tarefas!$I$6:$I$305,10),"") -> 46325
B22: =($C$9-WEEKDAY($C$9)+1)+35 -> 46327 | C22: =($C$9-WEEKDAY($C$9)+1)+36 -> 46328 | D22: =($C$9-WEEKDAY($C$9)+1)+37 -> 46329 | E22: =($C$9-WEEKDAY($C$9)+1)+38 -> 46330 | F22: =($C$9-WEEKDAY($C$9)+1)+39 -> 46331 | G22: =($C$9-WEEKDAY($C$9)+1)+40 -> 46332 | H22: =($C$9-WEEKDAY($C$9)+1)+41 -> 46333 | J22: =IF(K22="","",INDEX(Tarefas!$B$6:$B$305,MATCH(K22,Tarefas!$I$6:$I$305,0))) -> Levar carro na revisão | K22: =IFERROR(SMALL(Tarefas!$I$6:$I$305,11),"") -> 46327
B23: =IF(COUNTIFS(Tarefas!$E$6:$E$305,B22,Tarefas!$F$6:$F$305,"<>Concluída")=0,"",COUNTIFS(Tarefas!$E$6:$E$305,B22,Tarefas!$F$6:$F$305,"<>Concluída")&" tarefa"&IF(COUNTIFS(Tarefas!$E$6:$E$305,B22,Tarefas!$F$6:$F$305,"<>Concluída")>1,"s","")) -> 1 tarefa | C23: =IF(COUNTIFS(Tarefas!$E$6:$E$305,C22,Tarefas!$F$6:$F$305,"<>Concluída")=0,"",COUNTIFS(Tarefas!$E$6:$E$305,C22,Tarefas!$F$6:$F$305,"<>Concluída")&" tarefa"&IF(COUNTIFS(Tarefas!$E$6:$E$305,C22,Tarefas!$F$6:$F$305,"<>Concluída")>1,"s","")) | D23: =IF(COUNTIFS(Tarefas!$E$6:$E$305,D22,Tarefas!$F$6:$F$305,"<>Concluída")=0,"",COUNTIFS(Tarefas!$E$6:$E$305,D22,Tarefas!$F$6:$F$305,"<>Concluída")&" tarefa"&IF(COUNTIFS(Tarefas!$E$6:$E$305,D22,Tarefas!$F$6:$F$305,"<>Concluída")>1,"s","")) | E23: =IF(COUNTIFS(Tarefas!$E$6:$E$305,E22,Tarefas!$F$6:$F$305,"<>Concluída")=0,"",COUNTIFS(Tarefas!$E$6:$E$305,E22,Tarefas!$F$6:$F$305,"<>Concluída")&" tarefa"&IF(COUNTIFS(Tarefas!$E$6:$E$305,E22,Tarefas!$F$6:$F$305,"<>Concluída")>1,"s","")) | F23: =IF(COUNTIFS(Tarefas!$E$6:$E$305,F22,Tarefas!$F$6:$F$305,"<>Concluída")=0,"",COUNTIFS(Tarefas!$E$6:$E$305,F22,Tarefas!$F$6:$F$305,"<>Concluída")&" tarefa"&IF(COUNTIFS(Tarefas!$E$6:$E$305,F22,Tarefas!$F$6:$F$305,"<>Concluída")>1,"s","")) | G23: =IF(COUNTIFS(Tarefas!$E$6:$E$305,G22,Tarefas!$F$6:$F$305,"<>Concluída")=0,"",COUNTIFS(Tarefas!$E$6:$E$305,G22,Tarefas!$F$6:$F$305,"<>Concluída")&" tarefa"&IF(COUNTIFS(Tarefas!$E$6:$E$305,G22,Tarefas!$F$6:$F$305,"<>Concluída")>1,"s","")) | H23: =IF(COUNTIFS(Tarefas!$E$6:$E$305,H22,Tarefas!$F$6:$F$305,"<>Concluída")=0,"",COUNTIFS(Tarefas!$E$6:$E$305,H22,Tarefas!$F$6:$F$305,"<>Concluída")&" tarefa"&IF(COUNTIFS(Tarefas!$E$6:$E$305,H22,Tarefas!$F$6:$F$305,"<>Concluída")>1,"s","")) -> 1 tarefa | J23: =IF(K23="","",INDEX(Tarefas!$B$6:$B$305,MATCH(K23,Tarefas!$I$6:$I$305,0))) -> Planejar viagem de férias | K23: =IFERROR(SMALL(Tarefas!$I$6:$I$305,12),"") -> 46333
J24: Vermelho = atrasada. Mostra as 12 tarefas pendentes mais urgentes.
B26: Modelo gratuito do DocFree · docfree.com.br

Sheet Tarefas
B2: Minhas tarefas
B3: Anote tudo o que precisa fazer. O painel e o calendário do mês usam esta lista.
B5: Tarefa | C5: Área | D5: Prioridade | E5: Prazo | F5: Status | G5: Alerta | H5: Observação
B6: Enviar relatório mensal | C6: Trabalho | D6: Alta | E6: =TODAY()-2 -> 46311 | F6: A fazer | G6: =IF(OR(B6="",F6="Concluída",E6=""),"",IF(E6<TODAY(),"Atrasada",IF(E6=TODAY(),"Hoje",IF(E6-TODAY()<=7,"Esta semana","")))) -> Atrasada | I6: =IF(OR(B6="",E6="",F6="Concluída"),"",E6+ROW()/100000) -> 46311
B7: Pagar conta de luz | C7: Finanças | D7: Alta | E7: =TODAY()+0 -> 46313 | F7: A fazer | G7: =IF(OR(B7="",F7="Concluída",E7=""),"",IF(E7<TODAY(),"Atrasada",IF(E7=TODAY(),"Hoje",IF(E7-TODAY()<=7,"Esta semana","")))) -> Hoje | I7: =IF(OR(B7="",E7="",F7="Concluída"),"",E7+ROW()/100000) -> 46313
B8: Reunião com fornecedor | C8: Trabalho | D8: Média | E8: =TODAY()+1 -> 46314 | F8: A fazer | G8: =IF(OR(B8="",F8="Concluída",E8=""),"",IF(E8<TODAY(),"Atrasada",IF(E8=TODAY(),"Hoje",IF(E8-TODAY()<=7,"Esta semana","")))) -> Esta semana | I8: =IF(OR(B8="",E8="",F8="Concluída"),"",E8+ROW()/100000) -> 46314
B9: Consulta no dentista | C9: Saúde | D9: Média | E9: =TODAY()+3 -> 46316 | F9: A fazer | G9: =IF(OR(B9="",F9="Concluída",E9=""),"",IF(E9<TODAY(),"Atrasada",IF(E9=TODAY(),"Hoje",IF(E9-TODAY()<=7,"Esta semana","")))) -> Esta semana | I9: =IF(OR(B9="",E9="",F9="Concluída"),"",E9+ROW()/100000) -> 46316
B10: Revisar capítulo 4 | C10: Estudos | D10: Média | E10: =TODAY()+2 -> 46315 | F10: Fazendo | G10: =IF(OR(B10="",F10="Concluída",E10=""),"",IF(E10<TODAY(),"Atrasada",IF(E10=TODAY(),"Hoje",IF(E10-TODAY()<=7,"Esta semana","")))) -> Esta semana | I10: =IF(OR(B10="",E10="",F10="Concluída"),"",E10+ROW()/100000) -> 46315
B11: Comprar presente da mãe | C11: Família | D11: Alta | E11: =TODAY()+5 -> 46318 | F11: A fazer | G11: =IF(OR(B11="",F11="Concluída",E11=""),"",IF(E11<TODAY(),"Atrasada",IF(E11=TODAY(),"Hoje",IF(E11-TODAY()<=7,"Esta semana","")))) -> Esta semana | I11: =IF(OR(B11="",E11="",F11="Concluída"),"",E11+ROW()/100000) -> 46318
B12: Organizar armário | C12: Casa | D12: Baixa | E12: =TODAY()+9 -> 46322 | F12: A fazer | G12: =IF(OR(B12="",F12="Concluída",E12=""),"",IF(E12<TODAY(),"Atrasada",IF(E12=TODAY(),"Hoje",IF(E12-TODAY()<=7,"Esta semana","")))) | I12: =IF(OR(B12="",E12="",F12="Concluída"),"",E12+ROW()/100000) -> 46322
B13: Renovar seguro do carro | C13: Finanças | D13: Alta | E13: =TODAY()+12 -> 46325 | F13: A fazer | G13: =IF(OR(B13="",F13="Concluída",E13=""),"",IF(E13<TODAY(),"Atrasada",IF(E13=TODAY(),"Hoje",IF(E13-TODAY()<=7,"Esta semana","")))) | I13: =IF(OR(B13="",E13="",F13="Concluída"),"",E13+ROW()/100000) -> 46325
B14: Planejar viagem de férias | C14: Pessoal | D14: Baixa | E14: =TODAY()+20 -> 46333 | F14: A fazer | G14: =IF(OR(B14="",F14="Concluída",E14=""),"",IF(E14<TODAY(),"Atrasada",IF(E14=TODAY(),"Hoje",IF(E14-TODAY()<=7,"Esta semana","")))) | I14: =IF(OR(B14="",E14="",F14="Concluída"),"",E14+ROW()/100000) -> 46333
B15: Entregar proposta do cliente | C15: Trabalho | D15: Alta | E15: =TODAY()-5 -> 46308 | F15: Concluída | G15: =IF(OR(B15="",F15="Concluída",E15=""),"",IF(E15<TODAY(),"Atrasada",IF(E15=TODAY(),"Hoje",IF(E15-TODAY()<=7,"Esta semana","")))) | I15: =IF(OR(B15="",E15="",F15="Concluída"),"",E15+ROW()/100000)
B16: Academia 3x na semana | C16: Saúde | D16: Média | E16: =TODAY()+6 -> 46319 | F16: Fazendo | G16: =IF(OR(B16="",F16="Concluída",E16=""),"",IF(E16<TODAY(),"Atrasada",IF(E16=TODAY(),"Hoje",IF(E16-TODAY()<=7,"Esta semana","")))) -> Esta semana | I16: =IF(OR(B16="",E16="",F16="Concluída"),"",E16+ROW()/100000) -> 46319
B17: Fazer backup do celular | C17: Pessoal | D17: Baixa | E17: =TODAY()-1 -> 46312 | F17: Concluída | G17: =IF(OR(B17="",F17="Concluída",E17=""),"",IF(E17<TODAY(),"Atrasada",IF(E17=TODAY(),"Hoje",IF(E17-TODAY()<=7,"Esta semana","")))) | I17: =IF(OR(B17="",E17="",F17="Concluída"),"",E17+ROW()/100000)
B18: Preparar apresentação | C18: Trabalho | D18: Alta | E18: =TODAY()+8 -> 46321 | F18: Fazendo | G18: =IF(OR(B18="",F18="Concluída",E18=""),"",IF(E18<TODAY(),"Atrasada",IF(E18=TODAY(),"Hoje",IF(E18-TODAY()<=7,"Esta semana","")))) | I18: =IF(OR(B18="",E18="",F18="Concluída"),"",E18+ROW()/100000) -> 46321
B19: Levar carro na revisão | C19: Casa | D19: Média | E19: =TODAY()+14 -> 46327 | F19: A fazer | G19: =IF(OR(B19="",F19="Concluída",E19=""),"",IF(E19<TODAY(),"Atrasada",IF(E19=TODAY(),"Hoje",IF(E19-TODAY()<=7,"Esta semana","")))) | I19: =IF(OR(B19="",E19="",F19="Concluída"),"",E19+ROW()/100000) -> 46327
G20: =IF(OR(B20="",F20="Concluída",E20=""),"",IF(E20<TODAY(),"Atrasada",IF(E20=TODAY(),"Hoje",IF(E20-TODAY()<=7,"Esta semana","")))) | I20: =IF(OR(B20="",E20="",F20="Concluída"),"",E20+ROW()/100000)
G21: =IF(OR(B21="",F21="Concluída",E21=""),"",IF(E21<TODAY(),"Atrasada",IF(E21=TODAY(),"Hoje",IF(E21-TODAY()<=7,"Esta semana","")))) | I21: =IF(OR(B21="",E21="",F21="Concluída"),"",E21+ROW()/100000)
G22: =IF(OR(B22="",F22="Concluída",E22=""),"",IF(E22<TODAY(),"Atrasada",IF(E22=TODAY(),"Hoje",IF(E22-TODAY()<=7,"Esta semana","")))) | I22: =IF(OR(B22="",E22="",F22="Concluída"),"",E22+ROW()/100000)
G23: =IF(OR(B23="",F23="Concluída",E23=""),"",IF(E23<TODAY(),"Atrasada",IF(E23=TODAY(),"Hoje",IF(E23-TODAY()<=7,"Esta semana","")))) | I23: =IF(OR(B23="",E23="",F23="Concluída"),"",E23+ROW()/100000)
G24: =IF(OR(B24="",F24="Concluída",E24=""),"",IF(E24<TODAY(),"Atrasada",IF(E24=TODAY(),"Hoje",IF(E24-TODAY()<=7,"Esta semana","")))) | I24: =IF(OR(B24="",E24="",F24="Concluída"),"",E24+ROW()/100000)
G25: =IF(OR(B25="",F25="Concluída",E25=""),"",IF(E25<TODAY(),"Atrasada",IF(E25=TODAY(),"Hoje",IF(E25-TODAY()<=7,"Esta semana","")))) | I25: =IF(OR(B25="",E25="",F25="Concluída"),"",E25+ROW()/100000)
G26: =IF(OR(B26="",F26="Concluída",E26=""),"",IF(E26<TODAY(),"Atrasada",IF(E26=TODAY(),"Hoje",IF(E26-TODAY()<=7,"Esta semana","")))) | I26: =IF(OR(B26="",E26="",F26="Concluída"),"",E26+ROW()/100000)
G27: =IF(OR(B27="",F27="Concluída",E27=""),"",IF(E27<TODAY(),"Atrasada",IF(E27=TODAY(),"Hoje",IF(E27-TODAY()<=7,"Esta semana","")))) | I27: =IF(OR(B27="",E27="",F27="Concluída"),"",E27+ROW()/100000)
G28: =IF(OR(B28="",F28="Concluída",E28=""),"",IF(E28<TODAY(),"Atrasada",IF(E28=TODAY(),"Hoje",IF(E28-TODAY()<=7,"Esta semana","")))) | I28: =IF(OR(B28="",E28="",F28="Concluída"),"",E28+ROW()/100000)
G29: =IF(OR(B29="",F29="Concluída",E29=""),"",IF(E29<TODAY(),"Atrasada",IF(E29=TODAY(),"Hoje",IF(E29-TODAY()<=7,"Esta semana","")))) | I29: =IF(OR(B29="",E29="",F29="Concluída"),"",E29+ROW()/100000)
G30: =IF(OR(B30="",F30="Concluída",E30=""),"",IF(E30<TODAY(),"Atrasada",IF(E30=TODAY(),"Hoje",IF(E30-TODAY()<=7,"Esta semana","")))) | I30: =IF(OR(B30="",E30="",F30="Concluída"),"",E30+ROW()/100000)
G31: =IF(OR(B31="",F31="Concluída",E31=""),"",IF(E31<TODAY(),"Atrasada",IF(E31=TODAY(),"Hoje",IF(E31-TODAY()<=7,"Esta semana","")))) | I31: =IF(OR(B31="",E31="",F31="Concluída"),"",E31+ROW()/100000)
... G305: =IF(OR(B305="",F305="Concluída",E305=""),"",IF(E305<TODAY(),"Atrasada",IF(E305=TODAY(),"Hoje",IF(E305-TODAY()<=7,"Esta semana","")))) | I305: =IF(OR(B305="",E305="",F305="Concluída"),"",E305+ROW()/100000)

Sheet Semana para imprimir
B2: Minha semana
B3: Imprima e preencha à mão, ou digite direto. Uma folha por semana.
B5: Semana de: | C5: ___/___ a ___/___
B7: Segunda | C7: Terça | D7: Quarta | E7: Quinta | F7: Sexta | G7: Sábado | H7: Domingo
B8: ☐ | C8: ☐ | D8: ☐ | E8: ☐ | F8: ☐ | G8: ☐ | H8: ☐
B9: ☐ | C9: ☐ | D9: ☐ | E9: ☐ | F9: ☐ | G9: ☐ | H9: ☐
B10: ☐ | C10: ☐ | D10: ☐ | E10: ☐ | F10: ☐ | G10: ☐ | H10: ☐
B11: ☐ | C11: ☐ | D11: ☐ | E11: ☐ | F11: ☐ | G11: ☐ | H11: ☐
B12: ☐ | C12: ☐ | D12: ☐ | E12: ☐ | F12: ☐ | G12: ☐ | H12: ☐
B13: ☐ | C13: ☐ | D13: ☐ | E13: ☐ | F13: ☐ | G13: ☐ | H13: ☐
B14: ☐ | C14: ☐ | D14: ☐ | E14: ☐ | F14: ☐ | G14: ☐ | H14: ☐
B15: ☐ | C15: ☐ | D15: ☐ | E15: ☐ | F15: ☐ | G15: ☐ | H15: ☐
B16: ☐ | C16: ☐ | D16: ☐ | E16: ☐ | F16: ☐ | G16: ☐ | H16: ☐
B17: ☐ | C17: ☐ | D17: ☐ | E17: ☐ | F17: ☐ | G17: ☐ | H17: ☐
B18: ☐ | C18: ☐ | D18: ☐ | E18: ☐ | F18: ☐ | G18: ☐ | H18: ☐
B19: ☐ | C19: ☐ | D19: ☐ | E19: ☐ | F19: ☐ | G19: ☐ | H19: ☐
B21: Prioridades da semana | E21: Não posso esquecer | H21: Anotações
B22: 1. | E22: 1.
B23: 2. | E23: 2.
B24: 3. | E24: 3.
B25: 4. | E25: 4.
B27: Modelo gratuito do DocFree · docfree.com.br

Sheet Como usar
B2: Como usar esta planilha
B3: Planner Semanal e Mensal
B5: Passo a passo
B6: 1 | C6: Na aba Tarefas, anote cada tarefa com área, prioridade, prazo e status.
B7: 2 | C7: O Painel mostra o mês atual em um calendário, com a quantidade de tarefas em cada dia.
B8: 3 | C8: Ao lado do calendário aparecem as 12 tarefas pendentes mais urgentes.
B9: 4 | C9: Quando terminar uma tarefa, mude o status para Concluída: ela fica riscada e sai do calendário.
B10: 5 | C10: A aba Semana para imprimir é uma folha em branco para planejar a semana no papel.
B12: Legenda de cores
C13: Células brancas: é aqui que você digita.
C14: Células cinza: calculam sozinhas. Não precisa mexer.
B16: Dicas
B17: • | C17: Hoje aparece em amarelo no calendário. Dias com tarefas ficam em laranja claro.
B18: • | C18: Defina no máximo 3 prioridades por dia: fica mais fácil cumprir.
B19: • | C19: As linhas de exemplo podem ser apagadas. Funciona no Excel, Google Planilhas e LibreOffice.
C21: Modelo gratuito do DocFree · docfree.com.br · planilhas e modelos sem cadastro
