Workbook

Sheet Painel
B2: Vendas e Comissões
B3: Escolha o mês e veja o ranking da equipe, a meta de cada vendedor e as comissões a pagar.
B4: Mês do painel: | C4: 46296 | D4: ← escolha o mês (sempre o dia 1º)
B6: VENDIDO NO MÊS | D6: META DA EQUIPE | G6: % DA META | I6: Nº DE VENDAS | K6: COMISSÕES A PAGAR
B7: =SUMIFS(Vendas!$H$6:$H$805,Vendas!$B$6:$B$805,">="&$C$4,Vendas!$B$6:$B$805,"<"&EDATE($C$4,1)) -> 128130 | D7: =SUM(D13:D24) -> 125000 | G7: =IF(D7=0,0,B7/D7) -> 1.02504 | I7: =COUNTIFS(Vendas!$B$6:$B$805,">="&$C$4,Vendas!$B$6:$B$805,"<"&EDATE($C$4,1),Vendas!$H$6:$H$805,">0") -> 59 | K7: =SUMIFS(Vendas!$J$6:$J$805,Vendas!$B$6:$B$805,">="&$C$4,Vendas!$B$6:$B$805,"<"&EDATE($C$4,1)) -> 6571.6
B10: Desempenho por vendedor(a) | L10: Mais vendidos no mês
B12: Vendedor(a) | C12: Vendido | D12: Meta | E12: % da meta | F12: Andamento | G12: Nº vendas | H12: Ticket médio | I12: Comissão | J12: Ranking | L12: Produto / serviço | M12: Total
B13: =IF(Vendedores!B6="","",Vendedores!B6) -> Ana Souza | C13: =IF(B13="","",SUMIFS(Vendas!$H$6:$H$805,Vendas!$C$6:$C$805,B13,Vendas!$B$6:$B$805,">="&$C$4,Vendas!$B$6:$B$805,"<"&EDATE($C$4,1))) -> 32900 | D13: =IF(B13="","",Vendedores!D6) -> 30000 | E13: =IF(OR(B13="",N(D13)=0),"",C13/D13) -> 1.0966667 | F13: =IF(E13="","",REPT("█",ROUND(MIN(1,MAX(0,E13))*14,0))&REPT("░",14-ROUND(MIN(1,MAX(0,E13))*14,0))) -> ██████████████ | G13: =IF(B13="","",COUNTIFS(Vendas!$C$6:$C$805,B13,Vendas!$B$6:$B$805,">="&$C$4,Vendas!$B$6:$B$805,"<"&EDATE($C$4,1),Vendas!$H$6:$H$805,">0")) -> 18 | H13: =IF(OR(B13="",N(G13)=0),"",C13/G13) -> 1827.7778 | I13: =IF(B13="","",SUMIFS(Vendas!$J$6:$J$805,Vendas!$C$6:$C$805,B13,Vendas!$B$6:$B$805,">="&$C$4,Vendas!$B$6:$B$805,"<"&EDATE($C$4,1))) -> 1645 | J13: =IF(OR(B13="",N(C13)=0),"",RANK(C13,$C$13:$C$24)&"º") -> 2º | L13: Plano anual de manutenção | M13: =SUMIFS(Vendas!$H$6:$H$805,Vendas!$E$6:$E$805,L13,Vendas!$B$6:$B$805,">="&$C$4,Vendas!$B$6:$B$805,"<"&EDATE($C$4,1)) -> 15120
B14: =IF(Vendedores!B7="","",Vendedores!B7) -> Bruno Lima | C14: =IF(B14="","",SUMIFS(Vendas!$H$6:$H$805,Vendas!$C$6:$C$805,B14,Vendas!$B$6:$B$805,">="&$C$4,Vendas!$B$6:$B$805,"<"&EDATE($C$4,1))) -> 24210 | D14: =IF(B14="","",Vendedores!D7) -> 25000 | E14: =IF(OR(B14="",N(D14)=0),"",C14/D14) -> 0.9684 | F14: =IF(E14="","",REPT("█",ROUND(MIN(1,MAX(0,E14))*14,0))&REPT("░",14-ROUND(MIN(1,MAX(0,E14))*14,0))) -> ██████████████ | G14: =IF(B14="","",COUNTIFS(Vendas!$C$6:$C$805,B14,Vendas!$B$6:$B$805,">="&$C$4,Vendas!$B$6:$B$805,"<"&EDATE($C$4,1),Vendas!$H$6:$H$805,">0")) -> 11 | H14: =IF(OR(B14="",N(G14)=0),"",C14/G14) -> 2200.9091 | I14: =IF(B14="","",SUMIFS(Vendas!$J$6:$J$805,Vendas!$C$6:$C$805,B14,Vendas!$B$6:$B$805,">="&$C$4,Vendas!$B$6:$B$805,"<"&EDATE($C$4,1))) -> 1210.5 | J14: =IF(OR(B14="",N(C14)=0),"",RANK(C14,$C$13:$C$24)&"º") -> 3º | L14: Instalação de ar-condicionado | M14: =SUMIFS(Vendas!$H$6:$H$805,Vendas!$E$6:$E$805,L14,Vendas!$B$6:$B$805,">="&$C$4,Vendas!$B$6:$B$805,"<"&EDATE($C$4,1)) -> 6750
B15: =IF(Vendedores!B8="","",Vendedores!B8) -> Carla Mendes | C15: =IF(B15="","",SUMIFS(Vendas!$H$6:$H$805,Vendas!$C$6:$C$805,B15,Vendas!$B$6:$B$805,">="&$C$4,Vendas!$B$6:$B$805,"<"&EDATE($C$4,1))) -> 33240 | D15: =IF(B15="","",Vendedores!D8) -> 28000 | E15: =IF(OR(B15="",N(D15)=0),"",C15/D15) -> 1.1871429 | F15: =IF(E15="","",REPT("█",ROUND(MIN(1,MAX(0,E15))*14,0))&REPT("░",14-ROUND(MIN(1,MAX(0,E15))*14,0))) -> ██████████████ | G15: =IF(B15="","",COUNTIFS(Vendas!$C$6:$C$805,B15,Vendas!$B$6:$B$805,">="&$C$4,Vendas!$B$6:$B$805,"<"&EDATE($C$4,1),Vendas!$H$6:$H$805,">0")) -> 18 | H15: =IF(OR(B15="",N(G15)=0),"",C15/G15) -> 1846.6667 | I15: =IF(B15="","",SUMIFS(Vendas!$J$6:$J$805,Vendas!$C$6:$C$805,B15,Vendas!$B$6:$B$805,">="&$C$4,Vendas!$B$6:$B$805,"<"&EDATE($C$4,1))) -> 1994.4 | J15: =IF(OR(B15="",N(C15)=0),"",RANK(C15,$C$13:$C$24)&"º") -> 1º | L15: Ar-condicionado 12.000 BTUs | M15: =SUMIFS(Vendas!$H$6:$H$805,Vendas!$E$6:$E$805,L15,Vendas!$B$6:$B$805,">="&$C$4,Vendas!$B$6:$B$805,"<"&EDATE($C$4,1)) -> 71700
B16: =IF(Vendedores!B9="","",Vendedores!B9) -> Diego Rocha | C16: =IF(B16="","",SUMIFS(Vendas!$H$6:$H$805,Vendas!$C$6:$C$805,B16,Vendas!$B$6:$B$805,">="&$C$4,Vendas!$B$6:$B$805,"<"&EDATE($C$4,1))) -> 16730 | D16: =IF(B16="","",Vendedores!D9) -> 20000 | E16: =IF(OR(B16="",N(D16)=0),"",C16/D16) -> 0.8365 | F16: =IF(E16="","",REPT("█",ROUND(MIN(1,MAX(0,E16))*14,0))&REPT("░",14-ROUND(MIN(1,MAX(0,E16))*14,0))) -> ████████████░░ | G16: =IF(B16="","",COUNTIFS(Vendas!$C$6:$C$805,B16,Vendas!$B$6:$B$805,">="&$C$4,Vendas!$B$6:$B$805,"<"&EDATE($C$4,1),Vendas!$H$6:$H$805,">0")) -> 3 | H16: =IF(OR(B16="",N(G16)=0),"",C16/G16) -> 5576.6667 | I16: =IF(B16="","",SUMIFS(Vendas!$J$6:$J$805,Vendas!$C$6:$C$805,B16,Vendas!$B$6:$B$805,">="&$C$4,Vendas!$B$6:$B$805,"<"&EDATE($C$4,1))) -> 669.2 | J16: =IF(OR(B16="",N(C16)=0),"",RANK(C16,$C$13:$C$24)&"º") -> 5º | L16: Limpeza e higienização | M16: =SUMIFS(Vendas!$H$6:$H$805,Vendas!$E$6:$E$805,L16,Vendas!$B$6:$B$805,">="&$C$4,Vendas!$B$6:$B$805,"<"&EDATE($C$4,1)) -> 2520
B17: =IF(Vendedores!B10="","",Vendedores!B10) -> Eduarda Alves | C17: =IF(B17="","",SUMIFS(Vendas!$H$6:$H$805,Vendas!$C$6:$C$805,B17,Vendas!$B$6:$B$805,">="&$C$4,Vendas!$B$6:$B$805,"<"&EDATE($C$4,1))) -> 21050 | D17: =IF(B17="","",Vendedores!D10) -> 22000 | E17: =IF(OR(B17="",N(D17)=0),"",C17/D17) -> 0.95681818 | F17: =IF(E17="","",REPT("█",ROUND(MIN(1,MAX(0,E17))*14,0))&REPT("░",14-ROUND(MIN(1,MAX(0,E17))*14,0))) -> █████████████░ | G17: =IF(B17="","",COUNTIFS(Vendas!$C$6:$C$805,B17,Vendas!$B$6:$B$805,">="&$C$4,Vendas!$B$6:$B$805,"<"&EDATE($C$4,1),Vendas!$H$6:$H$805,">0")) -> 9 | H17: =IF(OR(B17="",N(G17)=0),"",C17/G17) -> 2338.8889 | I17: =IF(B17="","",SUMIFS(Vendas!$J$6:$J$805,Vendas!$C$6:$C$805,B17,Vendas!$B$6:$B$805,">="&$C$4,Vendas!$B$6:$B$805,"<"&EDATE($C$4,1))) -> 1052.5 | J17: =IF(OR(B17="",N(C17)=0),"",RANK(C17,$C$13:$C$24)&"º") -> 4º | L17: Ar-condicionado 9.000 BTUs | M17: =SUMIFS(Vendas!$H$6:$H$805,Vendas!$E$6:$E$805,L17,Vendas!$B$6:$B$805,">="&$C$4,Vendas!$B$6:$B$805,"<"&EDATE($C$4,1)) -> 30240
B18: =IF(Vendedores!B11="","",Vendedores!B11) | C18: =IF(B18="","",SUMIFS(Vendas!$H$6:$H$805,Vendas!$C$6:$C$805,B18,Vendas!$B$6:$B$805,">="&$C$4,Vendas!$B$6:$B$805,"<"&EDATE($C$4,1))) | D18: =IF(B18="","",Vendedores!D11) | E18: =IF(OR(B18="",N(D18)=0),"",C18/D18) | F18: =IF(E18="","",REPT("█",ROUND(MIN(1,MAX(0,E18))*14,0))&REPT("░",14-ROUND(MIN(1,MAX(0,E18))*14,0))) | G18: =IF(B18="","",COUNTIFS(Vendas!$C$6:$C$805,B18,Vendas!$B$6:$B$805,">="&$C$4,Vendas!$B$6:$B$805,"<"&EDATE($C$4,1),Vendas!$H$6:$H$805,">0")) | H18: =IF(OR(B18="",N(G18)=0),"",C18/G18) | I18: =IF(B18="","",SUMIFS(Vendas!$J$6:$J$805,Vendas!$C$6:$C$805,B18,Vendas!$B$6:$B$805,">="&$C$4,Vendas!$B$6:$B$805,"<"&EDATE($C$4,1))) | J18: =IF(OR(B18="",N(C18)=0),"",RANK(C18,$C$13:$C$24)&"º") | L18: Visita técnica | M18: =SUMIFS(Vendas!$H$6:$H$805,Vendas!$E$6:$E$805,L18,Vendas!$B$6:$B$805,">="&$C$4,Vendas!$B$6:$B$805,"<"&EDATE($C$4,1)) -> 1800
B19: =IF(Vendedores!B12="","",Vendedores!B12) | C19: =IF(B19="","",SUMIFS(Vendas!$H$6:$H$805,Vendas!$C$6:$C$805,B19,Vendas!$B$6:$B$805,">="&$C$4,Vendas!$B$6:$B$805,"<"&EDATE($C$4,1))) | D19: =IF(B19="","",Vendedores!D12) | E19: =IF(OR(B19="",N(D19)=0),"",C19/D19) | F19: =IF(E19="","",REPT("█",ROUND(MIN(1,MAX(0,E19))*14,0))&REPT("░",14-ROUND(MIN(1,MAX(0,E19))*14,0))) | G19: =IF(B19="","",COUNTIFS(Vendas!$C$6:$C$805,B19,Vendas!$B$6:$B$805,">="&$C$4,Vendas!$B$6:$B$805,"<"&EDATE($C$4,1),Vendas!$H$6:$H$805,">0")) | H19: =IF(OR(B19="",N(G19)=0),"",C19/G19) | I19: =IF(B19="","",SUMIFS(Vendas!$J$6:$J$805,Vendas!$C$6:$C$805,B19,Vendas!$B$6:$B$805,">="&$C$4,Vendas!$B$6:$B$805,"<"&EDATE($C$4,1))) | J19: =IF(OR(B19="",N(C19)=0),"",RANK(C19,$C$13:$C$24)&"º")
B20: =IF(Vendedores!B13="","",Vendedores!B13) | C20: =IF(B20="","",SUMIFS(Vendas!$H$6:$H$805,Vendas!$C$6:$C$805,B20,Vendas!$B$6:$B$805,">="&$C$4,Vendas!$B$6:$B$805,"<"&EDATE($C$4,1))) | D20: =IF(B20="","",Vendedores!D13) | E20: =IF(OR(B20="",N(D20)=0),"",C20/D20) | F20: =IF(E20="","",REPT("█",ROUND(MIN(1,MAX(0,E20))*14,0))&REPT("░",14-ROUND(MIN(1,MAX(0,E20))*14,0))) | G20: =IF(B20="","",COUNTIFS(Vendas!$C$6:$C$805,B20,Vendas!$B$6:$B$805,">="&$C$4,Vendas!$B$6:$B$805,"<"&EDATE($C$4,1),Vendas!$H$6:$H$805,">0")) | H20: =IF(OR(B20="",N(G20)=0),"",C20/G20) | I20: =IF(B20="","",SUMIFS(Vendas!$J$6:$J$805,Vendas!$C$6:$C$805,B20,Vendas!$B$6:$B$805,">="&$C$4,Vendas!$B$6:$B$805,"<"&EDATE($C$4,1))) | J20: =IF(OR(B20="",N(C20)=0),"",RANK(C20,$C$13:$C$24)&"º")
B21: =IF(Vendedores!B14="","",Vendedores!B14) | C21: =IF(B21="","",SUMIFS(Vendas!$H$6:$H$805,Vendas!$C$6:$C$805,B21,Vendas!$B$6:$B$805,">="&$C$4,Vendas!$B$6:$B$805,"<"&EDATE($C$4,1))) | D21: =IF(B21="","",Vendedores!D14) | E21: =IF(OR(B21="",N(D21)=0),"",C21/D21) | F21: =IF(E21="","",REPT("█",ROUND(MIN(1,MAX(0,E21))*14,0))&REPT("░",14-ROUND(MIN(1,MAX(0,E21))*14,0))) | G21: =IF(B21="","",COUNTIFS(Vendas!$C$6:$C$805,B21,Vendas!$B$6:$B$805,">="&$C$4,Vendas!$B$6:$B$805,"<"&EDATE($C$4,1),Vendas!$H$6:$H$805,">0")) | H21: =IF(OR(B21="",N(G21)=0),"",C21/G21) | I21: =IF(B21="","",SUMIFS(Vendas!$J$6:$J$805,Vendas!$C$6:$C$805,B21,Vendas!$B$6:$B$805,">="&$C$4,Vendas!$B$6:$B$805,"<"&EDATE($C$4,1))) | J21: =IF(OR(B21="",N(C21)=0),"",RANK(C21,$C$13:$C$24)&"º")
B22: =IF(Vendedores!B15="","",Vendedores!B15) | C22: =IF(B22="","",SUMIFS(Vendas!$H$6:$H$805,Vendas!$C$6:$C$805,B22,Vendas!$B$6:$B$805,">="&$C$4,Vendas!$B$6:$B$805,"<"&EDATE($C$4,1))) | D22: =IF(B22="","",Vendedores!D15) | E22: =IF(OR(B22="",N(D22)=0),"",C22/D22) | F22: =IF(E22="","",REPT("█",ROUND(MIN(1,MAX(0,E22))*14,0))&REPT("░",14-ROUND(MIN(1,MAX(0,E22))*14,0))) | G22: =IF(B22="","",COUNTIFS(Vendas!$C$6:$C$805,B22,Vendas!$B$6:$B$805,">="&$C$4,Vendas!$B$6:$B$805,"<"&EDATE($C$4,1),Vendas!$H$6:$H$805,">0")) | H22: =IF(OR(B22="",N(G22)=0),"",C22/G22) | I22: =IF(B22="","",SUMIFS(Vendas!$J$6:$J$805,Vendas!$C$6:$C$805,B22,Vendas!$B$6:$B$805,">="&$C$4,Vendas!$B$6:$B$805,"<"&EDATE($C$4,1))) | J22: =IF(OR(B22="",N(C22)=0),"",RANK(C22,$C$13:$C$24)&"º")
B23: =IF(Vendedores!B16="","",Vendedores!B16) | C23: =IF(B23="","",SUMIFS(Vendas!$H$6:$H$805,Vendas!$C$6:$C$805,B23,Vendas!$B$6:$B$805,">="&$C$4,Vendas!$B$6:$B$805,"<"&EDATE($C$4,1))) | D23: =IF(B23="","",Vendedores!D16) | E23: =IF(OR(B23="",N(D23)=0),"",C23/D23) | F23: =IF(E23="","",REPT("█",ROUND(MIN(1,MAX(0,E23))*14,0))&REPT("░",14-ROUND(MIN(1,MAX(0,E23))*14,0))) | G23: =IF(B23="","",COUNTIFS(Vendas!$C$6:$C$805,B23,Vendas!$B$6:$B$805,">="&$C$4,Vendas!$B$6:$B$805,"<"&EDATE($C$4,1),Vendas!$H$6:$H$805,">0")) | H23: =IF(OR(B23="",N(G23)=0),"",C23/G23) | I23: =IF(B23="","",SUMIFS(Vendas!$J$6:$J$805,Vendas!$C$6:$C$805,B23,Vendas!$B$6:$B$805,">="&$C$4,Vendas!$B$6:$B$805,"<"&EDATE($C$4,1))) | J23: =IF(OR(B23="",N(C23)=0),"",RANK(C23,$C$13:$C$24)&"º")
B24: =IF(Vendedores!B17="","",Vendedores!B17) | C24: =IF(B24="","",SUMIFS(Vendas!$H$6:$H$805,Vendas!$C$6:$C$805,B24,Vendas!$B$6:$B$805,">="&$C$4,Vendas!$B$6:$B$805,"<"&EDATE($C$4,1))) | D24: =IF(B24="","",Vendedores!D17) | E24: =IF(OR(B24="",N(D24)=0),"",C24/D24) | F24: =IF(E24="","",REPT("█",ROUND(MIN(1,MAX(0,E24))*14,0))&REPT("░",14-ROUND(MIN(1,MAX(0,E24))*14,0))) | G24: =IF(B24="","",COUNTIFS(Vendas!$C$6:$C$805,B24,Vendas!$B$6:$B$805,">="&$C$4,Vendas!$B$6:$B$805,"<"&EDATE($C$4,1),Vendas!$H$6:$H$805,">0")) | H24: =IF(OR(B24="",N(G24)=0),"",C24/G24) | I24: =IF(B24="","",SUMIFS(Vendas!$J$6:$J$805,Vendas!$C$6:$C$805,B24,Vendas!$B$6:$B$805,">="&$C$4,Vendas!$B$6:$B$805,"<"&EDATE($C$4,1))) | J24: =IF(OR(B24="",N(C24)=0),"",RANK(C24,$C$13:$C$24)&"º")
L25: Digite os produtos que quer acompanhar na coluna L.
B43: Modelo gratuito do DocFree · docfree.com.br

Sheet Vendedores
B2: Vendedores e metas
B3: Cadastre a equipe, o percentual de comissão e a meta de vendas do mês de cada um.
B5: Vendedor(a) | C5: % comissão | D5: Meta do mês (R$) | E5: Observação
B6: Ana Souza | C6: 0.05 | D6: 30000
B7: Bruno Lima | C7: 0.05 | D7: 25000
B8: Carla Mendes | C8: 0.06 | D8: 28000
B9: Diego Rocha | C9: 0.04 | D9: 20000
B10: Eduarda Alves | C10: 0.05 | D10: 22000

Sheet Vendas
B2: Registro de vendas
B3: Anote cada venda. A comissão é calculada pelo percentual cadastrado na aba Vendedores.
B5: Data | C5: Vendedor(a) | D5: Cliente | E5: Produto / serviço | F5: Qtd. | G5: Valor unit. | H5: Total da venda | I5: % comissão | J5: Comissão
B6: 46249 | C6: Ana Souza | D6: Mercado Bom Preço | E6: Ar-condicionado 9.000 BTUs | F6: 2 | G6: 1890 | H6: =IF(OR(F6="",G6=""),"",F6*G6) -> 3780 | I6: =IF(C6="","",IFERROR(INDEX(Vendedores!$C$6:$C$25,MATCH(C6,Vendedores!$B$6:$B$25,0)),0)) -> 0.05 | J6: =IF(H6="","",H6*I6) -> 189
B7: 46250 | C7: Ana Souza | D7: Escritório Silva & Lima | E7: Instalação de ar-condicionado | F7: 3 | G7: 450 | H7: =IF(OR(F7="",G7=""),"",F7*G7) -> 1350 | I7: =IF(C7="","",IFERROR(INDEX(Vendedores!$C$6:$C$25,MATCH(C7,Vendedores!$B$6:$B$25,0)),0)) -> 0.05 | J7: =IF(H7="","",H7*I7) -> 67.5
B8: 46244 | C8: Ana Souza | D8: Escritório Silva & Lima | E8: Plano anual de manutenção | F8: 2 | G8: 1890 | H8: =IF(OR(F8="",G8=""),"",F8*G8) -> 3780 | I8: =IF(C8="","",IFERROR(INDEX(Vendedores!$C$6:$C$25,MATCH(C8,Vendedores!$B$6:$B$25,0)),0)) -> 0.05 | J8: =IF(H8="","",H8*I8) -> 189
B9: 46260 | C9: Ana Souza | D9: Padaria Pão Quente | E9: Plano anual de manutenção | F9: 3 | G9: 1890 | H9: =IF(OR(F9="",G9=""),"",F9*G9) -> 5670 | I9: =IF(C9="","",IFERROR(INDEX(Vendedores!$C$6:$C$25,MATCH(C9,Vendedores!$B$6:$B$25,0)),0)) -> 0.05 | J9: =IF(H9="","",H9*I9) -> 283.5
B10: 46249 | C10: Ana Souza | D10: Escritório Silva & Lima | E10: Ar-condicionado 9.000 BTUs | F10: 2 | G10: 1890 | H10: =IF(OR(F10="",G10=""),"",F10*G10) -> 3780 | I10: =IF(C10="","",IFERROR(INDEX(Vendedores!$C$6:$C$25,MATCH(C10,Vendedores!$B$6:$B$25,0)),0)) -> 0.05 | J10: =IF(H10="","",H10*I10) -> 189
B11: 46261 | C11: Ana Souza | D11: Clínica Bem Estar | E11: Ar-condicionado 9.000 BTUs | F11: 1 | G11: 1890 | H11: =IF(OR(F11="",G11=""),"",F11*G11) -> 1890 | I11: =IF(C11="","",IFERROR(INDEX(Vendedores!$C$6:$C$25,MATCH(C11,Vendedores!$B$6:$B$25,0)),0)) -> 0.05 | J11: =IF(H11="","",H11*I11) -> 94.5
B12: 46241 | C12: Ana Souza | D12: Mercado Bom Preço | E12: Plano anual de manutenção | F12: 1 | G12: 1890 | H12: =IF(OR(F12="",G12=""),"",F12*G12) -> 1890 | I12: =IF(C12="","",IFERROR(INDEX(Vendedores!$C$6:$C$25,MATCH(C12,Vendedores!$B$6:$B$25,0)),0)) -> 0.05 | J12: =IF(H12="","",H12*I12) -> 94.5
B13: 46259 | C13: Ana Souza | D13: Consultório Dr. Reis | E13: Ar-condicionado 9.000 BTUs | F13: 1 | G13: 1890 | H13: =IF(OR(F13="",G13=""),"",F13*G13) -> 1890 | I13: =IF(C13="","",IFERROR(INDEX(Vendedores!$C$6:$C$25,MATCH(C13,Vendedores!$B$6:$B$25,0)),0)) -> 0.05 | J13: =IF(H13="","",H13*I13) -> 94.5
B14: 46253 | C14: Ana Souza | D14: Mercado Bom Preço | E14: Ar-condicionado 12.000 BTUs | F14: 2 | G14: 2390 | H14: =IF(OR(F14="",G14=""),"",F14*G14) -> 4780 | I14: =IF(C14="","",IFERROR(INDEX(Vendedores!$C$6:$C$25,MATCH(C14,Vendedores!$B$6:$B$25,0)),0)) -> 0.05 | J14: =IF(H14="","",H14*I14) -> 239
B15: 46255 | C15: Ana Souza | D15: Academia Força Total | E15: Ar-condicionado 9.000 BTUs | F15: 1 | G15: 1890 | H15: =IF(OR(F15="",G15=""),"",F15*G15) -> 1890 | I15: =IF(C15="","",IFERROR(INDEX(Vendedores!$C$6:$C$25,MATCH(C15,Vendedores!$B$6:$B$25,0)),0)) -> 0.05 | J15: =IF(H15="","",H15*I15) -> 94.5
B16: 46256 | C16: Ana Souza | D16: Clínica Bem Estar | E16: Limpeza e higienização | F16: 1 | G16: 180 | H16: =IF(OR(F16="",G16=""),"",F16*G16) -> 180 | I16: =IF(C16="","",IFERROR(INDEX(Vendedores!$C$6:$C$25,MATCH(C16,Vendedores!$B$6:$B$25,0)),0)) -> 0.05 | J16: =IF(H16="","",H16*I16) -> 9
B17: 46248 | C17: Ana Souza | D17: Clínica Bem Estar | E17: Limpeza e higienização | F17: 1 | G17: 180 | H17: =IF(OR(F17="",G17=""),"",F17*G17) -> 180 | I17: =IF(C17="","",IFERROR(INDEX(Vendedores!$C$6:$C$25,MATCH(C17,Vendedores!$B$6:$B$25,0)),0)) -> 0.05 | J17: =IF(H17="","",H17*I17) -> 9
... B205: 46313 | C205: Eduarda Alves | D205: Mercado Bom Preço | E205: Plano anual de manutenção | F205: 1 | G205: 1890 | H205: =IF(OR(F205="",G205=""),"",F205*G205) -> 1890 | I205: =IF(C205="","",IFERROR(INDEX(Vendedores!$C$6:$C$25,MATCH(C205,Vendedores!$B$6:$B$25,0)),0)) -> 0.05 | J205: =IF(H205="","",H205*I205) -> 94.5
H206: =IF(OR(F206="",G206=""),"",F206*G206) | I206: =IF(C206="","",IFERROR(INDEX(Vendedores!$C$6:$C$25,MATCH(C206,Vendedores!$B$6:$B$25,0)),0)) | J206: =IF(H206="","",H206*I206)
H207: =IF(OR(F207="",G207=""),"",F207*G207) | I207: =IF(C207="","",IFERROR(INDEX(Vendedores!$C$6:$C$25,MATCH(C207,Vendedores!$B$6:$B$25,0)),0)) | J207: =IF(H207="","",H207*I207)
H208: =IF(OR(F208="",G208=""),"",F208*G208) | I208: =IF(C208="","",IFERROR(INDEX(Vendedores!$C$6:$C$25,MATCH(C208,Vendedores!$B$6:$B$25,0)),0)) | J208: =IF(H208="","",H208*I208)
H209: =IF(OR(F209="",G209=""),"",F209*G209) | I209: =IF(C209="","",IFERROR(INDEX(Vendedores!$C$6:$C$25,MATCH(C209,Vendedores!$B$6:$B$25,0)),0)) | J209: =IF(H209="","",H209*I209)
H210: =IF(OR(F210="",G210=""),"",F210*G210) | I210: =IF(C210="","",IFERROR(INDEX(Vendedores!$C$6:$C$25,MATCH(C210,Vendedores!$B$6:$B$25,0)),0)) | J210: =IF(H210="","",H210*I210)
H211: =IF(OR(F211="",G211=""),"",F211*G211) | I211: =IF(C211="","",IFERROR(INDEX(Vendedores!$C$6:$C$25,MATCH(C211,Vendedores!$B$6:$B$25,0)),0)) | J211: =IF(H211="","",H211*I211)
H212: =IF(OR(F212="",G212=""),"",F212*G212) | I212: =IF(C212="","",IFERROR(INDEX(Vendedores!$C$6:$C$25,MATCH(C212,Vendedores!$B$6:$B$25,0)),0)) | J212: =IF(H212="","",H212*I212)
H213: =IF(OR(F213="",G213=""),"",F213*G213) | I213: =IF(C213="","",IFERROR(INDEX(Vendedores!$C$6:$C$25,MATCH(C213,Vendedores!$B$6:$B$25,0)),0)) | J213: =IF(H213="","",H213*I213)
H214: =IF(OR(F214="",G214=""),"",F214*G214) | I214: =IF(C214="","",IFERROR(INDEX(Vendedores!$C$6:$C$25,MATCH(C214,Vendedores!$B$6:$B$25,0)),0)) | J214: =IF(H214="","",H214*I214)
H215: =IF(OR(F215="",G215=""),"",F215*G215) | I215: =IF(C215="","",IFERROR(INDEX(Vendedores!$C$6:$C$25,MATCH(C215,Vendedores!$B$6:$B$25,0)),0)) | J215: =IF(H215="","",H215*I215)
H216: =IF(OR(F216="",G216=""),"",F216*G216) | I216: =IF(C216="","",IFERROR(INDEX(Vendedores!$C$6:$C$25,MATCH(C216,Vendedores!$B$6:$B$25,0)),0)) | J216: =IF(H216="","",H216*I216)
H217: =IF(OR(F217="",G217=""),"",F217*G217) | I217: =IF(C217="","",IFERROR(INDEX(Vendedores!$C$6:$C$25,MATCH(C217,Vendedores!$B$6:$B$25,0)),0)) | J217: =IF(H217="","",H217*I217)
... H805: =IF(OR(F805="",G805=""),"",F805*G805) | I805: =IF(C805="","",IFERROR(INDEX(Vendedores!$C$6:$C$25,MATCH(C805,Vendedores!$B$6:$B$25,0)),0)) | J805: =IF(H805="","",H805*I805)

Sheet Como usar
B2: Como usar esta planilha
B3: Vendas e Comissões
B5: Passo a passo
B6: 1 | C6: Na aba Vendedores, cadastre a equipe com o percentual de comissão e a meta do mês.
B7: 2 | C7: Na aba Vendas, registre cada venda escolhendo o vendedor no menu.
B8: 3 | C8: A comissão de cada venda é calculada sozinha.
B9: 4 | C9: No Painel, escolha o mês para ver o ranking, o % da meta e quanto pagar de comissão a cada um.
B10: 5 | C10: Na lista de mais vendidos, digite os produtos que você quer acompanhar.
B12: Legenda de cores
C13: Células brancas: é aqui que você digita.
C14: Células cinza: calculam sozinhas. Não precisa mexer.
B16: Dicas
B17: • | C17: Verde no % da meta = meta batida. Vermelho = abaixo de 80% da meta.
B18: • | C18: Ticket médio é o valor médio de cada venda: ajuda a saber quem vende mais por cliente.
B19: • | C19: As linhas de exemplo podem ser apagadas. Funciona no Excel, Google Planilhas e LibreOffice.
C21: Modelo gratuito do DocFree · docfree.com.br · planilhas e modelos sem cadastro
