Workbook

Sheet Plano
B2: Cronograma de Estudos
B3: Distribua suas horas pelas matérias, registre o que estudou e acompanhe horas, acertos e revisões. Ideal para concursos, ENEM e faculdade.
B5: Objetivo: | C5: Concurso TRT 2027
B6: Data da prova: | C6: 46467 | F6: =IF(C6="","",MAX(0,C6-TODAY())&" dias para a prova") -> 154 dias para a prova
B7: Horas de estudo por semana: | C7: 20
B9: HORAS ESTUDADAS | C9: ESTA SEMANA | E9: META DA SEMANA | G9: QUESTÕES FEITAS | I9: ACERTO GERAL
B10: =SUM(Registro!$E$6:$E$405) -> 59.5 | C10: =SUMIFS(Registro!$E$6:$E$405,Registro!$B$6:$B$405,">="&(TODAY()-WEEKDAY(TODAY(),2)+1)) -> 11.5 | E10: =IF(C7=0,0,C10/C7) -> 0.575 | G10: =SUM(Registro!$F$6:$F$405) -> 835 | I10: =IFERROR(SUM(Registro!$G$6:$G$405)/SUM(Registro!$F$6:$F$405),0) -> 0.79041916
B14: Matéria | C14: Peso na prova | D14: Dificuldade (1 a 3) | E14: Horas por semana | F14: Horas estudadas | G14: Questões | H14: % de acerto | I14: Andamento das horas | J14: Última vez | K14: Revisar
B15: Português | C15: 3 | D15: 2 | E15: =IF(B15="","",ROUND($C$7*C15*D15/SUMPRODUCT($C$15:$C$22,$D$15:$D$22),1)) -> 3.3 | F15: =IF(B15="","",SUMIFS(Registro!$E$6:$E$405,Registro!$C$6:$C$405,B15)) -> 3.5 | G15: =IF(B15="","",SUMIFS(Registro!$F$6:$F$405,Registro!$C$6:$C$405,B15)) -> 45 | H15: =IF(OR(B15="",N(G15)=0),"",SUMIFS(Registro!$G$6:$G$405,Registro!$C$6:$C$405,B15)/G15) -> 0.82222222 | I15: =IF(OR(B15="",N(E15)=0),"",REPT("█",ROUND(MIN(1,MAX(0,F15/(E15*MAX(1,(TODAY()-MIN(Registro!$B$6:$B$405))/7))))*12,0))&REPT("░",12-ROUND(MIN(1,MAX(0,F15/(E15*MAX(1,(TODAY()-MIN(Registro!$B$6:$B$405))/7))))*12,0))) -> ███░░░░░░░░░ | J15: =IF(B15="","",IFERROR(1/(1/_xlfn.MAXIFS(Registro!$B$6:$B$405,Registro!$C$6:$C$405,B15)),"Nunca")) -> 46290 | K15: =IF(OR(B15="",J15="Nunca"),"",IF(TODAY()-J15>=7,"Revisar!","")) -> Revisar!
B16: Direito Constitucional | C16: 3 | D16: 3 | E16: =IF(B16="","",ROUND($C$7*C16*D16/SUMPRODUCT($C$15:$C$22,$D$15:$D$22),1)) -> 5 | F16: =IF(B16="","",SUMIFS(Registro!$E$6:$E$405,Registro!$C$6:$C$405,B16)) -> 10 | G16: =IF(B16="","",SUMIFS(Registro!$F$6:$F$405,Registro!$C$6:$C$405,B16)) -> 155 | H16: =IF(OR(B16="",N(G16)=0),"",SUMIFS(Registro!$G$6:$G$405,Registro!$C$6:$C$405,B16)/G16) -> 0.8 | I16: =IF(OR(B16="",N(E16)=0),"",REPT("█",ROUND(MIN(1,MAX(0,F16/(E16*MAX(1,(TODAY()-MIN(Registro!$B$6:$B$405))/7))))*12,0))&REPT("░",12-ROUND(MIN(1,MAX(0,F16/(E16*MAX(1,(TODAY()-MIN(Registro!$B$6:$B$405))/7))))*12,0))) -> █████░░░░░░░ | J16: =IF(B16="","",IFERROR(1/(1/_xlfn.MAXIFS(Registro!$B$6:$B$405,Registro!$C$6:$C$405,B16)),"Nunca")) -> 46307 | K16: =IF(OR(B16="",J16="Nunca"),"",IF(TODAY()-J16>=7,"Revisar!",""))
B17: Direito Administrativo | C17: 2 | D17: 3 | E17: =IF(B17="","",ROUND($C$7*C17*D17/SUMPRODUCT($C$15:$C$22,$D$15:$D$22),1)) -> 3.3 | F17: =IF(B17="","",SUMIFS(Registro!$E$6:$E$405,Registro!$C$6:$C$405,B17)) -> 7 | G17: =IF(B17="","",SUMIFS(Registro!$F$6:$F$405,Registro!$C$6:$C$405,B17)) -> 110 | H17: =IF(OR(B17="",N(G17)=0),"",SUMIFS(Registro!$G$6:$G$405,Registro!$C$6:$C$405,B17)/G17) -> 0.85454545 | I17: =IF(OR(B17="",N(E17)=0),"",REPT("█",ROUND(MIN(1,MAX(0,F17/(E17*MAX(1,(TODAY()-MIN(Registro!$B$6:$B$405))/7))))*12,0))&REPT("░",12-ROUND(MIN(1,MAX(0,F17/(E17*MAX(1,(TODAY()-MIN(Registro!$B$6:$B$405))/7))))*12,0))) -> █████░░░░░░░ | J17: =IF(B17="","",IFERROR(1/(1/_xlfn.MAXIFS(Registro!$B$6:$B$405,Registro!$C$6:$C$405,B17)),"Nunca")) -> 46312 | K17: =IF(OR(B17="",J17="Nunca"),"",IF(TODAY()-J17>=7,"Revisar!",""))
B18: Direito do Trabalho | C18: 3 | D18: 2 | E18: =IF(B18="","",ROUND($C$7*C18*D18/SUMPRODUCT($C$15:$C$22,$D$15:$D$22),1)) -> 3.3 | F18: =IF(B18="","",SUMIFS(Registro!$E$6:$E$405,Registro!$C$6:$C$405,B18)) -> 12.5 | G18: =IF(B18="","",SUMIFS(Registro!$F$6:$F$405,Registro!$C$6:$C$405,B18)) -> 125 | H18: =IF(OR(B18="",N(G18)=0),"",SUMIFS(Registro!$G$6:$G$405,Registro!$C$6:$C$405,B18)/G18) -> 0.768 | I18: =IF(OR(B18="",N(E18)=0),"",REPT("█",ROUND(MIN(1,MAX(0,F18/(E18*MAX(1,(TODAY()-MIN(Registro!$B$6:$B$405))/7))))*12,0))&REPT("░",12-ROUND(MIN(1,MAX(0,F18/(E18*MAX(1,(TODAY()-MIN(Registro!$B$6:$B$405))/7))))*12,0))) -> █████████░░░ | J18: =IF(B18="","",IFERROR(1/(1/_xlfn.MAXIFS(Registro!$B$6:$B$405,Registro!$C$6:$C$405,B18)),"Nunca")) -> 46309 | K18: =IF(OR(B18="",J18="Nunca"),"",IF(TODAY()-J18>=7,"Revisar!",""))
B19: Raciocínio Lógico | C19: 1 | D19: 3 | E19: =IF(B19="","",ROUND($C$7*C19*D19/SUMPRODUCT($C$15:$C$22,$D$15:$D$22),1)) -> 1.7 | F19: =IF(B19="","",SUMIFS(Registro!$E$6:$E$405,Registro!$C$6:$C$405,B19)) -> 7.5 | G19: =IF(B19="","",SUMIFS(Registro!$F$6:$F$405,Registro!$C$6:$C$405,B19)) -> 100 | H19: =IF(OR(B19="",N(G19)=0),"",SUMIFS(Registro!$G$6:$G$405,Registro!$C$6:$C$405,B19)/G19) -> 0.62 | I19: =IF(OR(B19="",N(E19)=0),"",REPT("█",ROUND(MIN(1,MAX(0,F19/(E19*MAX(1,(TODAY()-MIN(Registro!$B$6:$B$405))/7))))*12,0))&REPT("░",12-ROUND(MIN(1,MAX(0,F19/(E19*MAX(1,(TODAY()-MIN(Registro!$B$6:$B$405))/7))))*12,0))) -> ███████████░ | J19: =IF(B19="","",IFERROR(1/(1/_xlfn.MAXIFS(Registro!$B$6:$B$405,Registro!$C$6:$C$405,B19)),"Nunca")) -> 46311 | K19: =IF(OR(B19="",J19="Nunca"),"",IF(TODAY()-J19>=7,"Revisar!",""))
B20: Informática | C20: 1 | D20: 1 | E20: =IF(B20="","",ROUND($C$7*C20*D20/SUMPRODUCT($C$15:$C$22,$D$15:$D$22),1)) -> 0.6 | F20: =IF(B20="","",SUMIFS(Registro!$E$6:$E$405,Registro!$C$6:$C$405,B20)) -> 5 | G20: =IF(B20="","",SUMIFS(Registro!$F$6:$F$405,Registro!$C$6:$C$405,B20)) -> 110 | H20: =IF(OR(B20="",N(G20)=0),"",SUMIFS(Registro!$G$6:$G$405,Registro!$C$6:$C$405,B20)/G20) -> 0.81818182 | I20: =IF(OR(B20="",N(E20)=0),"",REPT("█",ROUND(MIN(1,MAX(0,F20/(E20*MAX(1,(TODAY()-MIN(Registro!$B$6:$B$405))/7))))*12,0))&REPT("░",12-ROUND(MIN(1,MAX(0,F20/(E20*MAX(1,(TODAY()-MIN(Registro!$B$6:$B$405))/7))))*12,0))) -> ████████████ | J20: =IF(B20="","",IFERROR(1/(1/_xlfn.MAXIFS(Registro!$B$6:$B$405,Registro!$C$6:$C$405,B20)),"Nunca")) -> 46304 | K20: =IF(OR(B20="",J20="Nunca"),"",IF(TODAY()-J20>=7,"Revisar!","")) -> Revisar!
B21: Legislação específica | C21: 2 | D21: 2 | E21: =IF(B21="","",ROUND($C$7*C21*D21/SUMPRODUCT($C$15:$C$22,$D$15:$D$22),1)) -> 2.2 | F21: =IF(B21="","",SUMIFS(Registro!$E$6:$E$405,Registro!$C$6:$C$405,B21)) -> 4 | G21: =IF(B21="","",SUMIFS(Registro!$F$6:$F$405,Registro!$C$6:$C$405,B21)) -> 55 | H21: =IF(OR(B21="",N(G21)=0),"",SUMIFS(Registro!$G$6:$G$405,Registro!$C$6:$C$405,B21)/G21) -> 0.87272727 | I21: =IF(OR(B21="",N(E21)=0),"",REPT("█",ROUND(MIN(1,MAX(0,F21/(E21*MAX(1,(TODAY()-MIN(Registro!$B$6:$B$405))/7))))*12,0))&REPT("░",12-ROUND(MIN(1,MAX(0,F21/(E21*MAX(1,(TODAY()-MIN(Registro!$B$6:$B$405))/7))))*12,0))) -> ████░░░░░░░░ | J21: =IF(B21="","",IFERROR(1/(1/_xlfn.MAXIFS(Registro!$B$6:$B$405,Registro!$C$6:$C$405,B21)),"Nunca")) -> 46305 | K21: =IF(OR(B21="",J21="Nunca"),"",IF(TODAY()-J21>=7,"Revisar!","")) -> Revisar!
B22: Inglês | C22: 1 | D22: 1 | E22: =IF(B22="","",ROUND($C$7*C22*D22/SUMPRODUCT($C$15:$C$22,$D$15:$D$22),1)) -> 0.6 | F22: =IF(B22="","",SUMIFS(Registro!$E$6:$E$405,Registro!$C$6:$C$405,B22)) -> 10 | G22: =IF(B22="","",SUMIFS(Registro!$F$6:$F$405,Registro!$C$6:$C$405,B22)) -> 135 | H22: =IF(OR(B22="",N(G22)=0),"",SUMIFS(Registro!$G$6:$G$405,Registro!$C$6:$C$405,B22)/G22) -> 0.80740741 | I22: =IF(OR(B22="",N(E22)=0),"",REPT("█",ROUND(MIN(1,MAX(0,F22/(E22*MAX(1,(TODAY()-MIN(Registro!$B$6:$B$405))/7))))*12,0))&REPT("░",12-ROUND(MIN(1,MAX(0,F22/(E22*MAX(1,(TODAY()-MIN(Registro!$B$6:$B$405))/7))))*12,0))) -> ████████████ | J22: =IF(B22="","",IFERROR(1/(1/_xlfn.MAXIFS(Registro!$B$6:$B$405,Registro!$C$6:$C$405,B22)),"Nunca")) -> 46310 | K22: =IF(OR(B22="",J22="Nunca"),"",IF(TODAY()-J22>=7,"Revisar!",""))
B23: Horas por semana = suas horas totais divididas pelas matérias conforme peso × dificuldade. Acerto: vermelho abaixo de 60%, verde a partir de 80%.
B41: Modelo gratuito do DocFree · docfree.com.br

Sheet Grade da semana
B2: Grade semanal de estudos
B3: Escolha a matéria de cada horário. As cores seguem as matérias da aba Plano.
B5: Horário | C5: Segunda | D5: Terça | E5: Quarta | F5: Quinta | G5: Sexta | H5: Sábado | I5: Domingo
B6: 06:00 | C6: Inglês | E6: Inglês
B7: 07:00
B8: 08:00 | H8: Direito Constitucional | I8: Revisão
B9: 12:00
B10: 13:00
B11: 18:00
B12: 19:00 | C12: Português | D12: Direito Constitucional | E12: Direito Administrativo | F12: Direito do Trabalho | G12: Português
B13: 20:00 | C13: Direito Constitucional | D13: Direito do Trabalho | E13: Raciocínio Lógico | F13: Direito Constitucional | G13: Legislação específica
B14: 21:00 | C14: Informática | D14: Português | E14: Direito Administrativo | F14: Inglês | G14: Raciocínio Lógico
B15: 22:00
B17: Pode trocar os horários da coluna B. Também dá para escrever Revisão, Simulado ou Descanso.
B19: Modelo gratuito do DocFree · docfree.com.br

Sheet Registro
B2: Registro de estudos
B3: Anote cada sessão de estudo. As datas de revisão (1, 7 e 30 dias depois) são calculadas sozinhas.
B5: Data | C5: Matéria | D5: Assunto | E5: Horas | F5: Questões | G5: Acertos | H5: % acerto | I5: Revisão 1 dia | J5: Revisão 7 dias | K5: Revisão 30 dias
B6: 46279 | C6: Informática | D6: Excel | E6: 1 | F6: 30 | G6: 21 | H6: =IF(N(F6)=0,"",G6/F6) -> 0.7 | I6: =IF(B6="","",B6+1) -> 46280 | J6: =IF(B6="","",B6+7) -> 46286 | K6: =IF(B6="","",B6+30) -> 46309
B7: 46280 | C7: Direito do Trabalho | D7: Jornada de trabalho | E7: 2 | F7: 15 | G7: 12 | H7: =IF(N(F7)=0,"",G7/F7) -> 0.8 | I7: =IF(B7="","",B7+1) -> 46281 | J7: =IF(B7="","",B7+7) -> 46287 | K7: =IF(B7="","",B7+30) -> 46310
B8: 46281 | C8: Inglês | D8: Leitura de textos | E8: 2 | F8: 30 | G8: 24 | H8: =IF(N(F8)=0,"",G8/F8) -> 0.8 | I8: =IF(B8="","",B8+1) -> 46282 | J8: =IF(B8="","",B8+7) -> 46288 | K8: =IF(B8="","",B8+30) -> 46311
B9: 46281 | C9: Direito Constitucional | D9: Direitos fundamentais | E9: 1.5 | F9: 30 | G9: 22 | H9: =IF(N(F9)=0,"",G9/F9) -> 0.73333333 | I9: =IF(B9="","",B9+1) -> 46282 | J9: =IF(B9="","",B9+7) -> 46288 | K9: =IF(B9="","",B9+30) -> 46311
B10: 46282 | C10: Inglês | D10: Leitura de textos | E10: 1 | F10: 30 | G10: 26 | H10: =IF(N(F10)=0,"",G10/F10) -> 0.86666667 | I10: =IF(B10="","",B10+1) -> 46283 | J10: =IF(B10="","",B10+7) -> 46289 | K10: =IF(B10="","",B10+30) -> 46312
B11: 46282 | C11: Direito Constitucional | D11: Organização do Estado | E11: 1 | F11: 30 | G11: 25 | H11: =IF(N(F11)=0,"",G11/F11) -> 0.83333333 | I11: =IF(B11="","",B11+1) -> 46283 | J11: =IF(B11="","",B11+7) -> 46289 | K11: =IF(B11="","",B11+30) -> 46312
B12: 46283 | C12: Informática | D12: Segurança da informação | E12: 1 | F12: 15 | G12: 13 | H12: =IF(N(F12)=0,"",G12/F12) -> 0.86666667 | I12: =IF(B12="","",B12+1) -> 46284 | J12: =IF(B12="","",B12+7) -> 46290 | K12: =IF(B12="","",B12+30) -> 46313
B13: 46284 | C13: Direito Constitucional | D13: Direitos fundamentais | E13: 1 | F13: 10 | G13: 8 | H13: =IF(N(F13)=0,"",G13/F13) -> 0.8 | I13: =IF(B13="","",B13+1) -> 46285 | J13: =IF(B13="","",B13+7) -> 46291 | K13: =IF(B13="","",B13+30) -> 46314
B14: 46286 | C14: Inglês | D14: Leitura de textos | E14: 1 | F14: 20 | G14: 16 | H14: =IF(N(F14)=0,"",G14/F14) -> 0.8 | I14: =IF(B14="","",B14+1) -> 46287 | J14: =IF(B14="","",B14+7) -> 46293 | K14: =IF(B14="","",B14+30) -> 46316
B15: 46286 | C15: Direito Administrativo | D15: Licitações | E15: 1.5 | F15: 10 | G15: 7 | H15: =IF(N(F15)=0,"",G15/F15) -> 0.7 | I15: =IF(B15="","",B15+1) -> 46287 | J15: =IF(B15="","",B15+7) -> 46293 | K15: =IF(B15="","",B15+30) -> 46316
B16: 46287 | C16: Direito do Trabalho | D16: Rescisão | E16: 1.5 | F16: 20 | G16: 14 | H16: =IF(N(F16)=0,"",G16/F16) -> 0.7 | I16: =IF(B16="","",B16+1) -> 46288 | J16: =IF(B16="","",B16+7) -> 46294 | K16: =IF(B16="","",B16+30) -> 46317
B17: 46287 | C17: Direito Constitucional | D17: Direitos fundamentais | E17: 1.5 | F17: 15 | G17: 11 | H17: =IF(N(F17)=0,"",G17/F17) -> 0.73333333 | I17: =IF(B17="","",B17+1) -> 46288 | J17: =IF(B17="","",B17+7) -> 46294 | K17: =IF(B17="","",B17+30) -> 46317
... B49: 46312 | C49: Direito Administrativo | D49: Atos administrativos | E49: 1.5 | F49: 20 | G49: 18 | H49: =IF(N(F49)=0,"",G49/F49) -> 0.9 | I49: =IF(B49="","",B49+1) -> 46313 | J49: =IF(B49="","",B49+7) -> 46319 | K49: =IF(B49="","",B49+30) -> 46342
H50: =IF(N(F50)=0,"",G50/F50) | I50: =IF(B50="","",B50+1) | J50: =IF(B50="","",B50+7) | K50: =IF(B50="","",B50+30)
H51: =IF(N(F51)=0,"",G51/F51) | I51: =IF(B51="","",B51+1) | J51: =IF(B51="","",B51+7) | K51: =IF(B51="","",B51+30)
H52: =IF(N(F52)=0,"",G52/F52) | I52: =IF(B52="","",B52+1) | J52: =IF(B52="","",B52+7) | K52: =IF(B52="","",B52+30)
H53: =IF(N(F53)=0,"",G53/F53) | I53: =IF(B53="","",B53+1) | J53: =IF(B53="","",B53+7) | K53: =IF(B53="","",B53+30)
H54: =IF(N(F54)=0,"",G54/F54) | I54: =IF(B54="","",B54+1) | J54: =IF(B54="","",B54+7) | K54: =IF(B54="","",B54+30)
H55: =IF(N(F55)=0,"",G55/F55) | I55: =IF(B55="","",B55+1) | J55: =IF(B55="","",B55+7) | K55: =IF(B55="","",B55+30)
H56: =IF(N(F56)=0,"",G56/F56) | I56: =IF(B56="","",B56+1) | J56: =IF(B56="","",B56+7) | K56: =IF(B56="","",B56+30)
H57: =IF(N(F57)=0,"",G57/F57) | I57: =IF(B57="","",B57+1) | J57: =IF(B57="","",B57+7) | K57: =IF(B57="","",B57+30)
H58: =IF(N(F58)=0,"",G58/F58) | I58: =IF(B58="","",B58+1) | J58: =IF(B58="","",B58+7) | K58: =IF(B58="","",B58+30)
H59: =IF(N(F59)=0,"",G59/F59) | I59: =IF(B59="","",B59+1) | J59: =IF(B59="","",B59+7) | K59: =IF(B59="","",B59+30)
H60: =IF(N(F60)=0,"",G60/F60) | I60: =IF(B60="","",B60+1) | J60: =IF(B60="","",B60+7) | K60: =IF(B60="","",B60+30)
H61: =IF(N(F61)=0,"",G61/F61) | I61: =IF(B61="","",B61+1) | J61: =IF(B61="","",B61+7) | K61: =IF(B61="","",B61+30)
... H405: =IF(N(F405)=0,"",G405/F405) | I405: =IF(B405="","",B405+1) | J405: =IF(B405="","",B405+7) | K405: =IF(B405="","",B405+30)

Sheet Como usar
B2: Como usar esta planilha
B3: Cronograma de Estudos
B5: Passo a passo
B6: 1 | C6: Na aba Plano, preencha o objetivo, a data da prova e quantas horas por semana você pode estudar.
B7: 2 | C7: Liste as matérias com o peso na prova e a sua dificuldade (1 = fácil, 3 = difícil). As horas por semana de cada matéria são calculadas sozinhas.
B8: 3 | C8: Na aba Grade da semana, escolha a matéria de cada horário: as cores seguem as matérias.
B9: 4 | C9: Depois de estudar, anote na aba Registro a data, a matéria, as horas e as questões feitas.
B10: 5 | C10: Acompanhe no Plano as horas, o % de acerto e as matérias que estão há mais de 7 dias sem revisão.
B12: Legenda de cores
C13: Células brancas: é aqui que você digita.
C14: Células cinza: calculam sozinhas. Não precisa mexer.
B16: Dicas
B17: • | C17: As datas de revisão de 1, 7 e 30 dias ficam laranja no dia certo: revisar nesses intervalos ajuda a fixar o conteúdo.
B18: • | C18: Matérias com acerto abaixo de 60% merecem mais questões e revisão.
B19: • | C19: As linhas de exemplo podem ser apagadas. Funciona no Excel, Google Planilhas e LibreOffice.
C21: Modelo gratuito do DocFree · docfree.com.br · planilhas e modelos sem cadastro
