Workbook

Sheet Painel do cartão
B2: Controle de Cartão de Crédito
B3: Anote as compras na aba Compras. O painel mostra o limite usado, a fatura atual e as parcelas dos próximos meses.
B5: Nome do cartão | C5: Meu cartão | E5: LIMITE USADO | H5: LIMITE DISPONÍVEL | J5: FATURA EM ABERTO
B6: Limite total | C6: 12000 | E6: =SUM(Compras!$J$6:$J$305) -> 7694.55 | H6: =MAX(0,C6-E6) -> 4305.45 | J6: =C15 -> 2494.55
B7: Dia do fechamento | C7: 25
B8: Dia do vencimento | C8: 5
B9: Fatura em aberto (mês) | C9: =DATE(YEAR(TODAY()),MONTH(TODAY())+IF(DAY(TODAY())>=$C$7,1,0),1) -> 46296 | E9: =IF(C6=0,"",REPT("█",ROUND(MIN(1,MAX(0,E6/C6))*46,0))&REPT("░",46-ROUND(MIN(1,MAX(0,E6/C6))*46,0))) -> █████████████████████████████░░░░░░░░░░░░░░░░░ | L9: =IF(C6=0,"",E6/C6) -> 0.6412125
B10: Compras feitas no dia do fechamento ou depois caem na fatura do mês seguinte.
B12: Faturas dos próximos meses | H12: Fatura em aberto por categoria
B13: Fatura | C13: Valor | D13: % do limite | E13: Peso | H13: Categoria | I13: Valor | J13: %
B14: =EDATE($C$9,-1) -> 46266 | C14: =SUMIFS(Compras!$G$6:$G$305,Compras!$H$6:$H$305,"<="&B14,Compras!$I$6:$I$305,">="&B14) -> 800 | D14: =IF($C$6=0,"",C14/$C$6) -> 0.066666667 | E14: =REPT("█",ROUND(MIN(1,MAX(0,IF($C$6=0,0,C14/$C$6)))*16,0))&REPT("░",16-ROUND(MIN(1,MAX(0,IF($C$6=0,0,C14/$C$6)))*16,0)) -> █░░░░░░░░░░░░░░░ | H14: Mercado | I14: =SUMIFS(Compras!$G$6:$G$305,Compras!$D$6:$D$305,H14,Compras!$H$6:$H$305,"<="&$C$9,Compras!$I$6:$I$305,">="&$C$9) -> 901.15 | J14: =IF($C$15=0,"",I14/$C$15) -> 0.36124752
B15: =EDATE($C$9,0) -> 46296 | C15: =SUMIFS(Compras!$G$6:$G$305,Compras!$H$6:$H$305,"<="&B15,Compras!$I$6:$I$305,">="&B15) -> 2494.55 | D15: =IF($C$6=0,"",C15/$C$6) -> 0.20787917 | E15: =REPT("█",ROUND(MIN(1,MAX(0,IF($C$6=0,0,C15/$C$6)))*16,0))&REPT("░",16-ROUND(MIN(1,MAX(0,IF($C$6=0,0,C15/$C$6)))*16,0)) -> ███░░░░░░░░░░░░░ | H15: Restaurantes | I15: =SUMIFS(Compras!$G$6:$G$305,Compras!$D$6:$D$305,H15,Compras!$H$6:$H$305,"<="&$C$9,Compras!$I$6:$I$305,">="&$C$9) -> 186 | J15: =IF($C$15=0,"",I15/$C$15) -> 0.074562546
B16: =EDATE($C$9,1) -> 46327 | C16: =SUMIFS(Compras!$G$6:$G$305,Compras!$H$6:$H$305,"<="&B16,Compras!$I$6:$I$305,">="&B16) -> 960 | D16: =IF($C$6=0,"",C16/$C$6) -> 0.08 | E16: =REPT("█",ROUND(MIN(1,MAX(0,IF($C$6=0,0,C16/$C$6)))*16,0))&REPT("░",16-ROUND(MIN(1,MAX(0,IF($C$6=0,0,C16/$C$6)))*16,0)) -> █░░░░░░░░░░░░░░░ | H16: Transporte | I16: =SUMIFS(Compras!$G$6:$G$305,Compras!$D$6:$D$305,H16,Compras!$H$6:$H$305,"<="&$C$9,Compras!$I$6:$I$305,">="&$C$9) -> 64.2 | J16: =IF($C$15=0,"",I16/$C$15) -> 0.025736105
B17: =EDATE($C$9,2) -> 46357 | C17: =SUMIFS(Compras!$G$6:$G$305,Compras!$H$6:$H$305,"<="&B17,Compras!$I$6:$I$305,">="&B17) -> 960 | D17: =IF($C$6=0,"",C17/$C$6) -> 0.08 | E17: =REPT("█",ROUND(MIN(1,MAX(0,IF($C$6=0,0,C17/$C$6)))*16,0))&REPT("░",16-ROUND(MIN(1,MAX(0,IF($C$6=0,0,C17/$C$6)))*16,0)) -> █░░░░░░░░░░░░░░░ | H17: Combustível | I17: =SUMIFS(Compras!$G$6:$G$305,Compras!$D$6:$D$305,H17,Compras!$H$6:$H$305,"<="&$C$9,Compras!$I$6:$I$305,">="&$C$9) -> 230 | J17: =IF($C$15=0,"",I17/$C$15) -> 0.092200998
B18: =EDATE($C$9,3) -> 46388 | C18: =SUMIFS(Compras!$G$6:$G$305,Compras!$H$6:$H$305,"<="&B18,Compras!$I$6:$I$305,">="&B18) -> 800 | D18: =IF($C$6=0,"",C18/$C$6) -> 0.066666667 | E18: =REPT("█",ROUND(MIN(1,MAX(0,IF($C$6=0,0,C18/$C$6)))*16,0))&REPT("░",16-ROUND(MIN(1,MAX(0,IF($C$6=0,0,C18/$C$6)))*16,0)) -> █░░░░░░░░░░░░░░░ | H18: Compras | I18: =SUMIFS(Compras!$G$6:$G$305,Compras!$D$6:$D$305,H18,Compras!$H$6:$H$305,"<="&$C$9,Compras!$I$6:$I$305,">="&$C$9) -> 360 | J18: =IF($C$15=0,"",I18/$C$15) -> 0.14431461
B19: =EDATE($C$9,4) -> 46419 | C19: =SUMIFS(Compras!$G$6:$G$305,Compras!$H$6:$H$305,"<="&B19,Compras!$I$6:$I$305,">="&B19) -> 560 | D19: =IF($C$6=0,"",C19/$C$6) -> 0.046666667 | E19: =REPT("█",ROUND(MIN(1,MAX(0,IF($C$6=0,0,C19/$C$6)))*16,0))&REPT("░",16-ROUND(MIN(1,MAX(0,IF($C$6=0,0,C19/$C$6)))*16,0)) -> █░░░░░░░░░░░░░░░ | H19: Saúde | I19: =SUMIFS(Compras!$G$6:$G$305,Compras!$D$6:$D$305,H19,Compras!$H$6:$H$305,"<="&$C$9,Compras!$I$6:$I$305,">="&$C$9) -> 97.3 | J19: =IF($C$15=0,"",I19/$C$15) -> 0.039005031
B20: =EDATE($C$9,5) -> 46447 | C20: =SUMIFS(Compras!$G$6:$G$305,Compras!$H$6:$H$305,"<="&B20,Compras!$I$6:$I$305,">="&B20) -> 560 | D20: =IF($C$6=0,"",C20/$C$6) -> 0.046666667 | E20: =REPT("█",ROUND(MIN(1,MAX(0,IF($C$6=0,0,C20/$C$6)))*16,0))&REPT("░",16-ROUND(MIN(1,MAX(0,IF($C$6=0,0,C20/$C$6)))*16,0)) -> █░░░░░░░░░░░░░░░ | H20: Assinaturas | I20: =SUMIFS(Compras!$G$6:$G$305,Compras!$D$6:$D$305,H20,Compras!$H$6:$H$305,"<="&$C$9,Compras!$I$6:$I$305,">="&$C$9) -> 55.9 | J20: =IF($C$15=0,"",I20/$C$15) -> 0.022408851
B21: =EDATE($C$9,6) -> 46478 | C21: =SUMIFS(Compras!$G$6:$G$305,Compras!$H$6:$H$305,"<="&B21,Compras!$I$6:$I$305,">="&B21) -> 560 | D21: =IF($C$6=0,"",C21/$C$6) -> 0.046666667 | E21: =REPT("█",ROUND(MIN(1,MAX(0,IF($C$6=0,0,C21/$C$6)))*16,0))&REPT("░",16-ROUND(MIN(1,MAX(0,IF($C$6=0,0,C21/$C$6)))*16,0)) -> █░░░░░░░░░░░░░░░ | H21: Viagem | I21: =SUMIFS(Compras!$G$6:$G$305,Compras!$D$6:$D$305,H21,Compras!$H$6:$H$305,"<="&$C$9,Compras!$I$6:$I$305,">="&$C$9) -> 240 | J21: =IF($C$15=0,"",I21/$C$15) -> 0.096209737
B22: =EDATE($C$9,7) -> 46508 | C22: =SUMIFS(Compras!$G$6:$G$305,Compras!$H$6:$H$305,"<="&B22,Compras!$I$6:$I$305,">="&B22) -> 200 | D22: =IF($C$6=0,"",C22/$C$6) -> 0.016666667 | E22: =REPT("█",ROUND(MIN(1,MAX(0,IF($C$6=0,0,C22/$C$6)))*16,0))&REPT("░",16-ROUND(MIN(1,MAX(0,IF($C$6=0,0,C22/$C$6)))*16,0)) -> ░░░░░░░░░░░░░░░░ | H22: Casa | I22: =SUMIFS(Compras!$G$6:$G$305,Compras!$D$6:$D$305,H22,Compras!$H$6:$H$305,"<="&$C$9,Compras!$I$6:$I$305,">="&$C$9) -> 360 | J22: =IF($C$15=0,"",I22/$C$15) -> 0.14431461
B23: =EDATE($C$9,8) -> 46539 | C23: =SUMIFS(Compras!$G$6:$G$305,Compras!$H$6:$H$305,"<="&B23,Compras!$I$6:$I$305,">="&B23) -> 200 | D23: =IF($C$6=0,"",C23/$C$6) -> 0.016666667 | E23: =REPT("█",ROUND(MIN(1,MAX(0,IF($C$6=0,0,C23/$C$6)))*16,0))&REPT("░",16-ROUND(MIN(1,MAX(0,IF($C$6=0,0,C23/$C$6)))*16,0)) -> ░░░░░░░░░░░░░░░░ | H23: Educação | I23: =SUMIFS(Compras!$G$6:$G$305,Compras!$D$6:$D$305,H23,Compras!$H$6:$H$305,"<="&$C$9,Compras!$I$6:$I$305,">="&$C$9) -> 0 | J23: =IF($C$15=0,"",I23/$C$15) -> 0
B24: =EDATE($C$9,9) -> 46569 | C24: =SUMIFS(Compras!$G$6:$G$305,Compras!$H$6:$H$305,"<="&B24,Compras!$I$6:$I$305,">="&B24) -> 200 | D24: =IF($C$6=0,"",C24/$C$6) -> 0.016666667 | E24: =REPT("█",ROUND(MIN(1,MAX(0,IF($C$6=0,0,C24/$C$6)))*16,0))&REPT("░",16-ROUND(MIN(1,MAX(0,IF($C$6=0,0,C24/$C$6)))*16,0)) -> ░░░░░░░░░░░░░░░░ | H24: Outros | I24: =SUMIFS(Compras!$G$6:$G$305,Compras!$D$6:$D$305,H24,Compras!$H$6:$H$305,"<="&$C$9,Compras!$I$6:$I$305,">="&$C$9) -> 0 | J24: =IF($C$15=0,"",I24/$C$15) -> 0
B25: =EDATE($C$9,10) -> 46600 | C25: =SUMIFS(Compras!$G$6:$G$305,Compras!$H$6:$H$305,"<="&B25,Compras!$I$6:$I$305,">="&B25) -> 200 | D25: =IF($C$6=0,"",C25/$C$6) -> 0.016666667 | E25: =REPT("█",ROUND(MIN(1,MAX(0,IF($C$6=0,0,C25/$C$6)))*16,0))&REPT("░",16-ROUND(MIN(1,MAX(0,IF($C$6=0,0,C25/$C$6)))*16,0)) -> ░░░░░░░░░░░░░░░░ | H25: Pode renomear as categorias: o menu da aba Compras usa esta lista.
B26: A linha azul é a fatura em aberto. A primeira linha é a fatura anterior.
B43: Modelo gratuito do DocFree · docfree.com.br

Sheet Compras
B2: Compras no cartão
B3: Anote cada compra. Para compra parcelada, informe o valor TOTAL e o número de parcelas.
B5: Data da compra | C5: Descrição | D5: Categoria | E5: Valor total | F5: Parcelas | G5: Valor da parcela | H5: 1ª fatura | I5: Última fatura | J5: Ainda falta pagar
B6: 46215 | C6: Geladeira | D6: Casa | E6: 3600 | F6: 10 | G6: =IF(OR(B6="",E6=""),"",E6/MAX(1,N(F6))) -> 360 | H6: =IF(B6="","",DATE(YEAR(B6),MONTH(B6)+IF(DAY(B6)>='Painel do cartão'!$C$7,1,0),1)) -> 46204 | I6: =IF(H6="","",EDATE(H6,MAX(1,N(F6))-1)) -> 46478 | J6: =IF(H6="","",G6*MAX(0,(YEAR(I6)-YEAR('Painel do cartão'!$C$9))*12+MONTH(I6)-MONTH('Painel do cartão'!$C$9)+1-MAX(0,(YEAR(H6)-YEAR('Painel do cartão'!$C$9))*12+MONTH(H6)-MONTH('Painel do cartão'!$C$9)))) -> 2520
B7: 46237 | C7: Passagem aérea | D7: Viagem | E7: 1440 | F7: 6 | G7: =IF(OR(B7="",E7=""),"",E7/MAX(1,N(F7))) -> 240 | H7: =IF(B7="","",DATE(YEAR(B7),MONTH(B7)+IF(DAY(B7)>='Painel do cartão'!$C$7,1,0),1)) -> 46235 | I7: =IF(H7="","",EDATE(H7,MAX(1,N(F7))-1)) -> 46388 | J7: =IF(H7="","",G7*MAX(0,(YEAR(I7)-YEAR('Painel do cartão'!$C$9))*12+MONTH(I7)-MONTH('Painel do cartão'!$C$9)+1-MAX(0,(YEAR(H7)-YEAR('Painel do cartão'!$C$9))*12+MONTH(H7)-MONTH('Painel do cartão'!$C$9)))) -> 960
B8: 46285 | C8: Celular | D8: Compras | E8: 2400 | F8: 12 | G8: =IF(OR(B8="",E8=""),"",E8/MAX(1,N(F8))) -> 200 | H8: =IF(B8="","",DATE(YEAR(B8),MONTH(B8)+IF(DAY(B8)>='Painel do cartão'!$C$7,1,0),1)) -> 46266 | I8: =IF(H8="","",EDATE(H8,MAX(1,N(F8))-1)) -> 46600 | J8: =IF(H8="","",G8*MAX(0,(YEAR(I8)-YEAR('Painel do cartão'!$C$9))*12+MONTH(I8)-MONTH('Painel do cartão'!$C$9)+1-MAX(0,(YEAR(H8)-YEAR('Painel do cartão'!$C$9))*12+MONTH(H8)-MONTH('Painel do cartão'!$C$9)))) -> 2200
B9: 46293 | C9: Mercado | D9: Mercado | E9: 512.4 | F9: 1 | G9: =IF(OR(B9="",E9=""),"",E9/MAX(1,N(F9))) -> 512.4 | H9: =IF(B9="","",DATE(YEAR(B9),MONTH(B9)+IF(DAY(B9)>='Painel do cartão'!$C$7,1,0),1)) -> 46296 | I9: =IF(H9="","",EDATE(H9,MAX(1,N(F9))-1)) -> 46296 | J9: =IF(H9="","",G9*MAX(0,(YEAR(I9)-YEAR('Painel do cartão'!$C$9))*12+MONTH(I9)-MONTH('Painel do cartão'!$C$9)+1-MAX(0,(YEAR(H9)-YEAR('Painel do cartão'!$C$9))*12+MONTH(H9)-MONTH('Painel do cartão'!$C$9)))) -> 512.4
B10: 46297 | C10: Restaurante | D10: Restaurantes | E10: 186 | F10: 1 | G10: =IF(OR(B10="",E10=""),"",E10/MAX(1,N(F10))) -> 186 | H10: =IF(B10="","",DATE(YEAR(B10),MONTH(B10)+IF(DAY(B10)>='Painel do cartão'!$C$7,1,0),1)) -> 46296 | I10: =IF(H10="","",EDATE(H10,MAX(1,N(F10))-1)) -> 46296 | J10: =IF(H10="","",G10*MAX(0,(YEAR(I10)-YEAR('Painel do cartão'!$C$9))*12+MONTH(I10)-MONTH('Painel do cartão'!$C$9)+1-MAX(0,(YEAR(H10)-YEAR('Painel do cartão'!$C$9))*12+MONTH(H10)-MONTH('Painel do cartão'!$C$9)))) -> 186
B11: 46300 | C11: Posto | D11: Combustível | E11: 230 | F11: 1 | G11: =IF(OR(B11="",E11=""),"",E11/MAX(1,N(F11))) -> 230 | H11: =IF(B11="","",DATE(YEAR(B11),MONTH(B11)+IF(DAY(B11)>='Painel do cartão'!$C$7,1,0),1)) -> 46296 | I11: =IF(H11="","",EDATE(H11,MAX(1,N(F11))-1)) -> 46296 | J11: =IF(H11="","",G11*MAX(0,(YEAR(I11)-YEAR('Painel do cartão'!$C$9))*12+MONTH(I11)-MONTH('Painel do cartão'!$C$9)+1-MAX(0,(YEAR(H11)-YEAR('Painel do cartão'!$C$9))*12+MONTH(H11)-MONTH('Painel do cartão'!$C$9)))) -> 230
B12: 46303 | C12: Streaming | D12: Assinaturas | E12: 55.9 | F12: 1 | G12: =IF(OR(B12="",E12=""),"",E12/MAX(1,N(F12))) -> 55.9 | H12: =IF(B12="","",DATE(YEAR(B12),MONTH(B12)+IF(DAY(B12)>='Painel do cartão'!$C$7,1,0),1)) -> 46296 | I12: =IF(H12="","",EDATE(H12,MAX(1,N(F12))-1)) -> 46296 | J12: =IF(H12="","",G12*MAX(0,(YEAR(I12)-YEAR('Painel do cartão'!$C$9))*12+MONTH(I12)-MONTH('Painel do cartão'!$C$9)+1-MAX(0,(YEAR(H12)-YEAR('Painel do cartão'!$C$9))*12+MONTH(H12)-MONTH('Painel do cartão'!$C$9)))) -> 55.9
B13: 46305 | C13: Farmácia | D13: Saúde | E13: 97.3 | F13: 1 | G13: =IF(OR(B13="",E13=""),"",E13/MAX(1,N(F13))) -> 97.3 | H13: =IF(B13="","",DATE(YEAR(B13),MONTH(B13)+IF(DAY(B13)>='Painel do cartão'!$C$7,1,0),1)) -> 46296 | I13: =IF(H13="","",EDATE(H13,MAX(1,N(F13))-1)) -> 46296 | J13: =IF(H13="","",G13*MAX(0,(YEAR(I13)-YEAR('Painel do cartão'!$C$9))*12+MONTH(I13)-MONTH('Painel do cartão'!$C$9)+1-MAX(0,(YEAR(H13)-YEAR('Painel do cartão'!$C$9))*12+MONTH(H13)-MONTH('Painel do cartão'!$C$9)))) -> 97.3
B14: 46307 | C14: Tênis de corrida | D14: Compras | E14: 480 | F14: 3 | G14: =IF(OR(B14="",E14=""),"",E14/MAX(1,N(F14))) -> 160 | H14: =IF(B14="","",DATE(YEAR(B14),MONTH(B14)+IF(DAY(B14)>='Painel do cartão'!$C$7,1,0),1)) -> 46296 | I14: =IF(H14="","",EDATE(H14,MAX(1,N(F14))-1)) -> 46357 | J14: =IF(H14="","",G14*MAX(0,(YEAR(I14)-YEAR('Painel do cartão'!$C$9))*12+MONTH(I14)-MONTH('Painel do cartão'!$C$9)+1-MAX(0,(YEAR(H14)-YEAR('Painel do cartão'!$C$9))*12+MONTH(H14)-MONTH('Painel do cartão'!$C$9)))) -> 480
B15: 46310 | C15: Mercado | D15: Mercado | E15: 388.75 | F15: 1 | G15: =IF(OR(B15="",E15=""),"",E15/MAX(1,N(F15))) -> 388.75 | H15: =IF(B15="","",DATE(YEAR(B15),MONTH(B15)+IF(DAY(B15)>='Painel do cartão'!$C$7,1,0),1)) -> 46296 | I15: =IF(H15="","",EDATE(H15,MAX(1,N(F15))-1)) -> 46296 | J15: =IF(H15="","",G15*MAX(0,(YEAR(I15)-YEAR('Painel do cartão'!$C$9))*12+MONTH(I15)-MONTH('Painel do cartão'!$C$9)+1-MAX(0,(YEAR(H15)-YEAR('Painel do cartão'!$C$9))*12+MONTH(H15)-MONTH('Painel do cartão'!$C$9)))) -> 388.75
B16: 46311 | C16: Aplicativo de transporte | D16: Transporte | E16: 64.2 | F16: 1 | G16: =IF(OR(B16="",E16=""),"",E16/MAX(1,N(F16))) -> 64.2 | H16: =IF(B16="","",DATE(YEAR(B16),MONTH(B16)+IF(DAY(B16)>='Painel do cartão'!$C$7,1,0),1)) -> 46296 | I16: =IF(H16="","",EDATE(H16,MAX(1,N(F16))-1)) -> 46296 | J16: =IF(H16="","",G16*MAX(0,(YEAR(I16)-YEAR('Painel do cartão'!$C$9))*12+MONTH(I16)-MONTH('Painel do cartão'!$C$9)+1-MAX(0,(YEAR(H16)-YEAR('Painel do cartão'!$C$9))*12+MONTH(H16)-MONTH('Painel do cartão'!$C$9)))) -> 64.2
G17: =IF(OR(B17="",E17=""),"",E17/MAX(1,N(F17))) | H17: =IF(B17="","",DATE(YEAR(B17),MONTH(B17)+IF(DAY(B17)>='Painel do cartão'!$C$7,1,0),1)) | I17: =IF(H17="","",EDATE(H17,MAX(1,N(F17))-1)) | J17: =IF(H17="","",G17*MAX(0,(YEAR(I17)-YEAR('Painel do cartão'!$C$9))*12+MONTH(I17)-MONTH('Painel do cartão'!$C$9)+1-MAX(0,(YEAR(H17)-YEAR('Painel do cartão'!$C$9))*12+MONTH(H17)-MONTH('Painel do cartão'!$C$9))))
G18: =IF(OR(B18="",E18=""),"",E18/MAX(1,N(F18))) | H18: =IF(B18="","",DATE(YEAR(B18),MONTH(B18)+IF(DAY(B18)>='Painel do cartão'!$C$7,1,0),1)) | I18: =IF(H18="","",EDATE(H18,MAX(1,N(F18))-1)) | J18: =IF(H18="","",G18*MAX(0,(YEAR(I18)-YEAR('Painel do cartão'!$C$9))*12+MONTH(I18)-MONTH('Painel do cartão'!$C$9)+1-MAX(0,(YEAR(H18)-YEAR('Painel do cartão'!$C$9))*12+MONTH(H18)-MONTH('Painel do cartão'!$C$9))))
G19: =IF(OR(B19="",E19=""),"",E19/MAX(1,N(F19))) | H19: =IF(B19="","",DATE(YEAR(B19),MONTH(B19)+IF(DAY(B19)>='Painel do cartão'!$C$7,1,0),1)) | I19: =IF(H19="","",EDATE(H19,MAX(1,N(F19))-1)) | J19: =IF(H19="","",G19*MAX(0,(YEAR(I19)-YEAR('Painel do cartão'!$C$9))*12+MONTH(I19)-MONTH('Painel do cartão'!$C$9)+1-MAX(0,(YEAR(H19)-YEAR('Painel do cartão'!$C$9))*12+MONTH(H19)-MONTH('Painel do cartão'!$C$9))))
G20: =IF(OR(B20="",E20=""),"",E20/MAX(1,N(F20))) | H20: =IF(B20="","",DATE(YEAR(B20),MONTH(B20)+IF(DAY(B20)>='Painel do cartão'!$C$7,1,0),1)) | I20: =IF(H20="","",EDATE(H20,MAX(1,N(F20))-1)) | J20: =IF(H20="","",G20*MAX(0,(YEAR(I20)-YEAR('Painel do cartão'!$C$9))*12+MONTH(I20)-MONTH('Painel do cartão'!$C$9)+1-MAX(0,(YEAR(H20)-YEAR('Painel do cartão'!$C$9))*12+MONTH(H20)-MONTH('Painel do cartão'!$C$9))))
G21: =IF(OR(B21="",E21=""),"",E21/MAX(1,N(F21))) | H21: =IF(B21="","",DATE(YEAR(B21),MONTH(B21)+IF(DAY(B21)>='Painel do cartão'!$C$7,1,0),1)) | I21: =IF(H21="","",EDATE(H21,MAX(1,N(F21))-1)) | J21: =IF(H21="","",G21*MAX(0,(YEAR(I21)-YEAR('Painel do cartão'!$C$9))*12+MONTH(I21)-MONTH('Painel do cartão'!$C$9)+1-MAX(0,(YEAR(H21)-YEAR('Painel do cartão'!$C$9))*12+MONTH(H21)-MONTH('Painel do cartão'!$C$9))))
G22: =IF(OR(B22="",E22=""),"",E22/MAX(1,N(F22))) | H22: =IF(B22="","",DATE(YEAR(B22),MONTH(B22)+IF(DAY(B22)>='Painel do cartão'!$C$7,1,0),1)) | I22: =IF(H22="","",EDATE(H22,MAX(1,N(F22))-1)) | J22: =IF(H22="","",G22*MAX(0,(YEAR(I22)-YEAR('Painel do cartão'!$C$9))*12+MONTH(I22)-MONTH('Painel do cartão'!$C$9)+1-MAX(0,(YEAR(H22)-YEAR('Painel do cartão'!$C$9))*12+MONTH(H22)-MONTH('Painel do cartão'!$C$9))))
G23: =IF(OR(B23="",E23=""),"",E23/MAX(1,N(F23))) | H23: =IF(B23="","",DATE(YEAR(B23),MONTH(B23)+IF(DAY(B23)>='Painel do cartão'!$C$7,1,0),1)) | I23: =IF(H23="","",EDATE(H23,MAX(1,N(F23))-1)) | J23: =IF(H23="","",G23*MAX(0,(YEAR(I23)-YEAR('Painel do cartão'!$C$9))*12+MONTH(I23)-MONTH('Painel do cartão'!$C$9)+1-MAX(0,(YEAR(H23)-YEAR('Painel do cartão'!$C$9))*12+MONTH(H23)-MONTH('Painel do cartão'!$C$9))))
G24: =IF(OR(B24="",E24=""),"",E24/MAX(1,N(F24))) | H24: =IF(B24="","",DATE(YEAR(B24),MONTH(B24)+IF(DAY(B24)>='Painel do cartão'!$C$7,1,0),1)) | I24: =IF(H24="","",EDATE(H24,MAX(1,N(F24))-1)) | J24: =IF(H24="","",G24*MAX(0,(YEAR(I24)-YEAR('Painel do cartão'!$C$9))*12+MONTH(I24)-MONTH('Painel do cartão'!$C$9)+1-MAX(0,(YEAR(H24)-YEAR('Painel do cartão'!$C$9))*12+MONTH(H24)-MONTH('Painel do cartão'!$C$9))))
G25: =IF(OR(B25="",E25=""),"",E25/MAX(1,N(F25))) | H25: =IF(B25="","",DATE(YEAR(B25),MONTH(B25)+IF(DAY(B25)>='Painel do cartão'!$C$7,1,0),1)) | I25: =IF(H25="","",EDATE(H25,MAX(1,N(F25))-1)) | J25: =IF(H25="","",G25*MAX(0,(YEAR(I25)-YEAR('Painel do cartão'!$C$9))*12+MONTH(I25)-MONTH('Painel do cartão'!$C$9)+1-MAX(0,(YEAR(H25)-YEAR('Painel do cartão'!$C$9))*12+MONTH(H25)-MONTH('Painel do cartão'!$C$9))))
G26: =IF(OR(B26="",E26=""),"",E26/MAX(1,N(F26))) | H26: =IF(B26="","",DATE(YEAR(B26),MONTH(B26)+IF(DAY(B26)>='Painel do cartão'!$C$7,1,0),1)) | I26: =IF(H26="","",EDATE(H26,MAX(1,N(F26))-1)) | J26: =IF(H26="","",G26*MAX(0,(YEAR(I26)-YEAR('Painel do cartão'!$C$9))*12+MONTH(I26)-MONTH('Painel do cartão'!$C$9)+1-MAX(0,(YEAR(H26)-YEAR('Painel do cartão'!$C$9))*12+MONTH(H26)-MONTH('Painel do cartão'!$C$9))))
G27: =IF(OR(B27="",E27=""),"",E27/MAX(1,N(F27))) | H27: =IF(B27="","",DATE(YEAR(B27),MONTH(B27)+IF(DAY(B27)>='Painel do cartão'!$C$7,1,0),1)) | I27: =IF(H27="","",EDATE(H27,MAX(1,N(F27))-1)) | J27: =IF(H27="","",G27*MAX(0,(YEAR(I27)-YEAR('Painel do cartão'!$C$9))*12+MONTH(I27)-MONTH('Painel do cartão'!$C$9)+1-MAX(0,(YEAR(H27)-YEAR('Painel do cartão'!$C$9))*12+MONTH(H27)-MONTH('Painel do cartão'!$C$9))))
G28: =IF(OR(B28="",E28=""),"",E28/MAX(1,N(F28))) | H28: =IF(B28="","",DATE(YEAR(B28),MONTH(B28)+IF(DAY(B28)>='Painel do cartão'!$C$7,1,0),1)) | I28: =IF(H28="","",EDATE(H28,MAX(1,N(F28))-1)) | J28: =IF(H28="","",G28*MAX(0,(YEAR(I28)-YEAR('Painel do cartão'!$C$9))*12+MONTH(I28)-MONTH('Painel do cartão'!$C$9)+1-MAX(0,(YEAR(H28)-YEAR('Painel do cartão'!$C$9))*12+MONTH(H28)-MONTH('Painel do cartão'!$C$9))))
... G305: =IF(OR(B305="",E305=""),"",E305/MAX(1,N(F305))) | H305: =IF(B305="","",DATE(YEAR(B305),MONTH(B305)+IF(DAY(B305)>='Painel do cartão'!$C$7,1,0),1)) | I305: =IF(H305="","",EDATE(H305,MAX(1,N(F305))-1)) | J305: =IF(H305="","",G305*MAX(0,(YEAR(I305)-YEAR('Painel do cartão'!$C$9))*12+MONTH(I305)-MONTH('Painel do cartão'!$C$9)+1-MAX(0,(YEAR(H305)-YEAR('Painel do cartão'!$C$9))*12+MONTH(H305)-MONTH('Painel do cartão'!$C$9))))

Sheet Como usar
B2: Como usar esta planilha
B3: Controle de Cartão de Crédito
B5: Passo a passo
B6: 1 | C6: No Painel do cartão, preencha os campos amarelos: nome, limite, dia do fechamento e do vencimento.
B7: 2 | C7: Na aba Compras, anote cada compra. Em compra parcelada, coloque o valor total e o número de parcelas.
B8: 3 | C8: A planilha descobre sozinha em qual fatura cai cada parcela, pelo dia do fechamento.
B9: 4 | C9: No painel, veja o limite usado, a fatura em aberto, os gastos por categoria e as faturas dos próximos meses.
B10: 5 | C10: Use a lista de faturas futuras antes de fazer uma nova compra parcelada.
B12: Legenda de cores
C13: Células brancas: é aqui que você digita.
C14: Células cinza: calculam sozinhas. Não precisa mexer.
B16: Dicas
B17: • | C17: Se tiver mais de um cartão, faça uma cópia do arquivo para cada um.
B18: • | C18: Limite usado acima de 30% do total já é sinal de atenção. A barra muda de cor para avisar.
B19: • | C19: Confira o valor da fatura no aplicativo do banco: tarifas, juros e IOF não entram aqui.
B20: • | C20: As linhas de exemplo podem ser apagadas. Funciona no Excel, Google Planilhas e LibreOffice.
C22: Modelo gratuito do DocFree · docfree.com.br · planilhas e modelos sem cadastro
