Workbook

Sheet Clientes
B2: Cadastro de Clientes
B3: Cadastre os clientes e registre as compras na aba Compras. Total comprado, última compra e situação são automáticos.
B5: CLIENTES CADASTRADOS | D5: CLIENTES ATIVOS | F5: SUMIDOS (+90 DIAS) | H5: ANIVERSARIANTES DO MÊS | J5: FATURAMENTO TOTAL | M5: TICKET MÉDIO
B6: =COUNTA($C$12:$C$311) -> 12 | D6: =COUNTIF($M$12:$M$311,"Ativo") -> 10 | F6: =COUNTIF($M$12:$M$311,"Sumido") -> 2 | H6: =SUMPRODUCT(--($G$12:$G$311<>""),--(MONTH($G$12:$G$311+0)=MONTH(TODAY()))) -> 6 | J6: =SUM($K$12:$K$311) -> 6624.5 | M6: =IFERROR(SUM($K$12:$K$311)/SUM($J$12:$J$311),0) -> 179.04054
B9: Lilás no aniversário = faz aniversário este mês. Laranja = não compra há mais de 90 dias: hora de chamar no WhatsApp.
B11: Nº | C11: Nome / empresa | D11: Telefone / WhatsApp | E11: E-mail | F11: Cidade | G11: Aniversário | H11: Origem | I11: Primeira compra | J11: Nº compras | K11: Total comprado | L11: Última compra | M11: Situação | N11: Classificação | Q11: Origem dos clientes
B12: =IF(C12="","",ROW()-11) -> 1 | C12: Mariana Costa | D12: (11) 95185-6874 | E12: mariana@email.com | F12: Osasco | G12: 29366 | H12: Instagram | I12: =IF(OR(C12="",N(J12)=0),"",_xlfn.MINIFS(Compras!$B$6:$B$1005,Compras!$C$6:$C$1005,C12)) -> 46260 | J12: =IF(C12="","",COUNTIF(Compras!$C$6:$C$1005,C12)) -> 3 | K12: =IF(C12="","",SUMIFS(Compras!$F$6:$F$1005,Compras!$C$6:$C$1005,C12)) -> 500 | L12: =IF(OR(C12="",N(J12)=0),"",_xlfn.MAXIFS(Compras!$B$6:$B$1005,Compras!$C$6:$C$1005,C12)) -> 46303 | M12: =IF(C12="","",IF(N(J12)=0,"Sem compra",IF(TODAY()-L12<=90,"Ativo","Sumido"))) -> Ativo | N12: =IF(OR(C12="",N(K12)=0),"",IF(K12>=PERCENTILE($K$12:$K$311,0.8),"★★★ Ouro",IF(K12>=MEDIAN($K$12:$K$311),"★★ Prata","★ Bronze"))) -> ★ Bronze | Q12: Origem | R12: Clientes
B13: =IF(C13="","",ROW()-11) -> 2 | C13: João Pereira | D13: (11) 91849-3569 | E13: joão@email.com | F13: São Paulo | G13: 33386 | H13: Instagram | I13: =IF(OR(C13="",N(J13)=0),"",_xlfn.MINIFS(Compras!$B$6:$B$1005,Compras!$C$6:$C$1005,C13)) -> 46243 | J13: =IF(C13="","",COUNTIF(Compras!$C$6:$C$1005,C13)) -> 3 | K13: =IF(C13="","",SUMIFS(Compras!$F$6:$F$1005,Compras!$C$6:$C$1005,C13)) -> 585 | L13: =IF(OR(C13="",N(J13)=0),"",_xlfn.MAXIFS(Compras!$B$6:$B$1005,Compras!$C$6:$C$1005,C13)) -> 46261 | M13: =IF(C13="","",IF(N(J13)=0,"Sem compra",IF(TODAY()-L13<=90,"Ativo","Sumido"))) -> Ativo | N13: =IF(OR(C13="",N(K13)=0),"",IF(K13>=PERCENTILE($K$12:$K$311,0.8),"★★★ Ouro",IF(K13>=MEDIAN($K$12:$K$311),"★★ Prata","★ Bronze"))) -> ★★ Prata | Q13: Indicação | R13: =COUNTIF($H$12:$H$311,Q13) -> 3
B14: =IF(C14="","",ROW()-11) -> 3 | C14: Padaria Pão Quente | D14: (11) 97238-9908 | E14: padaria@email.com | F14: São Paulo | G14: 36069 | H14: Instagram | I14: =IF(OR(C14="",N(J14)=0),"",_xlfn.MINIFS(Compras!$B$6:$B$1005,Compras!$C$6:$C$1005,C14)) -> 46282 | J14: =IF(C14="","",COUNTIF(Compras!$C$6:$C$1005,C14)) -> 1 | K14: =IF(C14="","",SUMIFS(Compras!$F$6:$F$1005,Compras!$C$6:$C$1005,C14)) -> 210 | L14: =IF(OR(C14="",N(J14)=0),"",_xlfn.MAXIFS(Compras!$B$6:$B$1005,Compras!$C$6:$C$1005,C14)) -> 46282 | M14: =IF(C14="","",IF(N(J14)=0,"Sem compra",IF(TODAY()-L14<=90,"Ativo","Sumido"))) -> Ativo | N14: =IF(OR(C14="",N(K14)=0),"",IF(K14>=PERCENTILE($K$12:$K$311,0.8),"★★★ Ouro",IF(K14>=MEDIAN($K$12:$K$311),"★★ Prata","★ Bronze"))) -> ★ Bronze | Q14: Instagram | R14: =COUNTIF($H$12:$H$311,Q14) -> 4
B15: =IF(C15="","",ROW()-11) -> 4 | C15: Fernanda Ribeiro | D15: (11) 97687-5579 | E15: fernanda@email.com | F15: Campinas | G15: 38113 | H15: Indicação | I15: =IF(OR(C15="",N(J15)=0),"",_xlfn.MINIFS(Compras!$B$6:$B$1005,Compras!$C$6:$C$1005,C15)) -> 46014 | J15: =IF(C15="","",COUNTIF(Compras!$C$6:$C$1005,C15)) -> 2 | K15: =IF(C15="","",SUMIFS(Compras!$F$6:$F$1005,Compras!$C$6:$C$1005,C15)) -> 240 | L15: =IF(OR(C15="",N(J15)=0),"",_xlfn.MAXIFS(Compras!$B$6:$B$1005,Compras!$C$6:$C$1005,C15)) -> 46101 | M15: =IF(C15="","",IF(N(J15)=0,"Sem compra",IF(TODAY()-L15<=90,"Ativo","Sumido"))) -> Sumido | N15: =IF(OR(C15="",N(K15)=0),"",IF(K15>=PERCENTILE($K$12:$K$311,0.8),"★★★ Ouro",IF(K15>=MEDIAN($K$12:$K$311),"★★ Prata","★ Bronze"))) -> ★ Bronze | Q15: Google | R15: =COUNTIF($H$12:$H$311,Q15) -> 4
B16: =IF(C16="","",ROW()-11) -> 5 | C16: Lucas Martins | D16: (11) 93273-8288 | E16: lucas@email.com | F16: Campinas | G16: 30983 | H16: Indicação | I16: =IF(OR(C16="",N(J16)=0),"",_xlfn.MINIFS(Compras!$B$6:$B$1005,Compras!$C$6:$C$1005,C16)) -> 46247 | J16: =IF(C16="","",COUNTIF(Compras!$C$6:$C$1005,C16)) -> 3 | K16: =IF(C16="","",SUMIFS(Compras!$F$6:$F$1005,Compras!$C$6:$C$1005,C16)) -> 505 | L16: =IF(OR(C16="",N(J16)=0),"",_xlfn.MAXIFS(Compras!$B$6:$B$1005,Compras!$C$6:$C$1005,C16)) -> 46289 | M16: =IF(C16="","",IF(N(J16)=0,"Sem compra",IF(TODAY()-L16<=90,"Ativo","Sumido"))) -> Ativo | N16: =IF(OR(C16="",N(K16)=0),"",IF(K16>=PERCENTILE($K$12:$K$311,0.8),"★★★ Ouro",IF(K16>=MEDIAN($K$12:$K$311),"★★ Prata","★ Bronze"))) -> ★ Bronze | Q16: WhatsApp | R16: =COUNTIF($H$12:$H$311,Q16) -> 1
B17: =IF(C17="","",ROW()-11) -> 6 | C17: Clínica Bem Estar | D17: (11) 94431-4530 | E17: clínica@email.com | F17: Campinas | G17: 31117 | H17: Instagram | I17: =IF(OR(C17="",N(J17)=0),"",_xlfn.MINIFS(Compras!$B$6:$B$1005,Compras!$C$6:$C$1005,C17)) -> 46240 | J17: =IF(C17="","",COUNTIF(Compras!$C$6:$C$1005,C17)) -> 1 | K17: =IF(C17="","",SUMIFS(Compras!$F$6:$F$1005,Compras!$C$6:$C$1005,C17)) -> 89.9 | L17: =IF(OR(C17="",N(J17)=0),"",_xlfn.MAXIFS(Compras!$B$6:$B$1005,Compras!$C$6:$C$1005,C17)) -> 46240 | M17: =IF(C17="","",IF(N(J17)=0,"Sem compra",IF(TODAY()-L17<=90,"Ativo","Sumido"))) -> Ativo | N17: =IF(OR(C17="",N(K17)=0),"",IF(K17>=PERCENTILE($K$12:$K$311,0.8),"★★★ Ouro",IF(K17>=MEDIAN($K$12:$K$311),"★★ Prata","★ Bronze"))) -> ★ Bronze | Q17: Passou na loja | R17: =COUNTIF($H$12:$H$311,Q17) -> 0
B18: =IF(C18="","",ROW()-11) -> 7 | C18: Patrícia Gomes | D18: (11) 99834-4355 | E18: patrícia@email.com | F18: Campinas | G18: 37542 | H18: Google | I18: =IF(OR(C18="",N(J18)=0),"",_xlfn.MINIFS(Compras!$B$6:$B$1005,Compras!$C$6:$C$1005,C18)) -> 46255 | J18: =IF(C18="","",COUNTIF(Compras!$C$6:$C$1005,C18)) -> 6 | K18: =IF(C18="","",SUMIFS(Compras!$F$6:$F$1005,Compras!$C$6:$C$1005,C18)) -> 1109.8 | L18: =IF(OR(C18="",N(J18)=0),"",_xlfn.MAXIFS(Compras!$B$6:$B$1005,Compras!$C$6:$C$1005,C18)) -> 46304 | M18: =IF(C18="","",IF(N(J18)=0,"Sem compra",IF(TODAY()-L18<=90,"Ativo","Sumido"))) -> Ativo | N18: =IF(OR(C18="",N(K18)=0),"",IF(K18>=PERCENTILE($K$12:$K$311,0.8),"★★★ Ouro",IF(K18>=MEDIAN($K$12:$K$311),"★★ Prata","★ Bronze"))) -> ★★★ Ouro | Q18: Site | R18: =COUNTIF($H$12:$H$311,Q18) -> 0
B19: =IF(C19="","",ROW()-11) -> 8 | C19: Rafael Santos | D19: (11) 91353-6917 | E19: rafael@email.com | F19: Guarulhos | G19: 31329 | H19: Indicação | I19: =IF(OR(C19="",N(J19)=0),"",_xlfn.MINIFS(Compras!$B$6:$B$1005,Compras!$C$6:$C$1005,C19)) -> 46242 | J19: =IF(C19="","",COUNTIF(Compras!$C$6:$C$1005,C19)) -> 3 | K19: =IF(C19="","",SUMIFS(Compras!$F$6:$F$1005,Compras!$C$6:$C$1005,C19)) -> 529.9 | L19: =IF(OR(C19="",N(J19)=0),"",_xlfn.MAXIFS(Compras!$B$6:$B$1005,Compras!$C$6:$C$1005,C19)) -> 46290 | M19: =IF(C19="","",IF(N(J19)=0,"Sem compra",IF(TODAY()-L19<=90,"Ativo","Sumido"))) -> Ativo | N19: =IF(OR(C19="",N(K19)=0),"",IF(K19>=PERCENTILE($K$12:$K$311,0.8),"★★★ Ouro",IF(K19>=MEDIAN($K$12:$K$311),"★★ Prata","★ Bronze"))) -> ★★ Prata | Q19: Feira / evento | R19: =COUNTIF($H$12:$H$311,Q19) -> 0
B20: =IF(C20="","",ROW()-11) -> 9 | C20: Juliana Rocha | D20: (11) 96437-5937 | E20: juliana@email.com | F20: Osasco | G20: 36088 | H20: Google | I20: =IF(OR(C20="",N(J20)=0),"",_xlfn.MINIFS(Compras!$B$6:$B$1005,Compras!$C$6:$C$1005,C20)) -> 46073 | J20: =IF(C20="","",COUNTIF(Compras!$C$6:$C$1005,C20)) -> 2 | K20: =IF(C20="","",SUMIFS(Compras!$F$6:$F$1005,Compras!$C$6:$C$1005,C20)) -> 385 | L20: =IF(OR(C20="",N(J20)=0),"",_xlfn.MAXIFS(Compras!$B$6:$B$1005,Compras!$C$6:$C$1005,C20)) -> 46097 | M20: =IF(C20="","",IF(N(J20)=0,"Sem compra",IF(TODAY()-L20<=90,"Ativo","Sumido"))) -> Sumido | N20: =IF(OR(C20="",N(K20)=0),"",IF(K20>=PERCENTILE($K$12:$K$311,0.8),"★★★ Ouro",IF(K20>=MEDIAN($K$12:$K$311),"★★ Prata","★ Bronze"))) -> ★ Bronze | Q20: Outros | R20: =COUNTIF($H$12:$H$311,Q20) -> 0
B21: =IF(C21="","",ROW()-11) -> 10 | C21: Mercado Bom Preço | D21: (11) 92081-6078 | E21: mercado@email.com | F21: Santos | G21: 32651 | H21: Google | I21: =IF(OR(C21="",N(J21)=0),"",_xlfn.MINIFS(Compras!$B$6:$B$1005,Compras!$C$6:$C$1005,C21)) -> 46233 | J21: =IF(C21="","",COUNTIF(Compras!$C$6:$C$1005,C21)) -> 4 | K21: =IF(C21="","",SUMIFS(Compras!$F$6:$F$1005,Compras!$C$6:$C$1005,C21)) -> 795 | L21: =IF(OR(C21="",N(J21)=0),"",_xlfn.MAXIFS(Compras!$B$6:$B$1005,Compras!$C$6:$C$1005,C21)) -> 46274 | M21: =IF(C21="","",IF(N(J21)=0,"Sem compra",IF(TODAY()-L21<=90,"Ativo","Sumido"))) -> Ativo | N21: =IF(OR(C21="",N(K21)=0),"",IF(K21>=PERCENTILE($K$12:$K$311,0.8),"★★★ Ouro",IF(K21>=MEDIAN($K$12:$K$311),"★★ Prata","★ Bronze"))) -> ★★★ Ouro
B22: =IF(C22="","",ROW()-11) -> 11 | C22: Thiago Almeida | D22: (11) 94027-8884 | E22: thiago@email.com | F22: Guarulhos | G22: 37531 | H22: Google | I22: =IF(OR(C22="",N(J22)=0),"",_xlfn.MINIFS(Compras!$B$6:$B$1005,Compras!$C$6:$C$1005,C22)) -> 46237 | J22: =IF(C22="","",COUNTIF(Compras!$C$6:$C$1005,C22)) -> 3 | K22: =IF(C22="","",SUMIFS(Compras!$F$6:$F$1005,Compras!$C$6:$C$1005,C22)) -> 529.9 | L22: =IF(OR(C22="",N(J22)=0),"",_xlfn.MAXIFS(Compras!$B$6:$B$1005,Compras!$C$6:$C$1005,C22)) -> 46271 | M22: =IF(C22="","",IF(N(J22)=0,"Sem compra",IF(TODAY()-L22<=90,"Ativo","Sumido"))) -> Ativo | N22: =IF(OR(C22="",N(K22)=0),"",IF(K22>=PERCENTILE($K$12:$K$311,0.8),"★★★ Ouro",IF(K22>=MEDIAN($K$12:$K$311),"★★ Prata","★ Bronze"))) -> ★★ Prata
B23: =IF(C23="","",ROW()-11) -> 12 | C23: Camila Ferreira | D23: (11) 91374-6859 | E23: camila@email.com | F23: Guarulhos | G23: 29428 | H23: WhatsApp | I23: =IF(OR(C23="",N(J23)=0),"",_xlfn.MINIFS(Compras!$B$6:$B$1005,Compras!$C$6:$C$1005,C23)) -> 46263 | J23: =IF(C23="","",COUNTIF(Compras!$C$6:$C$1005,C23)) -> 6 | K23: =IF(C23="","",SUMIFS(Compras!$F$6:$F$1005,Compras!$C$6:$C$1005,C23)) -> 1145 | L23: =IF(OR(C23="",N(J23)=0),"",_xlfn.MAXIFS(Compras!$B$6:$B$1005,Compras!$C$6:$C$1005,C23)) -> 46307 | M23: =IF(C23="","",IF(N(J23)=0,"Sem compra",IF(TODAY()-L23<=90,"Ativo","Sumido"))) -> Ativo | N23: =IF(OR(C23="",N(K23)=0),"",IF(K23>=PERCENTILE($K$12:$K$311,0.8),"★★★ Ouro",IF(K23>=MEDIAN($K$12:$K$311),"★★ Prata","★ Bronze"))) -> ★★★ Ouro
B24: =IF(C24="","",ROW()-11) | I24: =IF(OR(C24="",N(J24)=0),"",_xlfn.MINIFS(Compras!$B$6:$B$1005,Compras!$C$6:$C$1005,C24)) | J24: =IF(C24="","",COUNTIF(Compras!$C$6:$C$1005,C24)) | K24: =IF(C24="","",SUMIFS(Compras!$F$6:$F$1005,Compras!$C$6:$C$1005,C24)) | L24: =IF(OR(C24="",N(J24)=0),"",_xlfn.MAXIFS(Compras!$B$6:$B$1005,Compras!$C$6:$C$1005,C24)) | M24: =IF(C24="","",IF(N(J24)=0,"Sem compra",IF(TODAY()-L24<=90,"Ativo","Sumido"))) | N24: =IF(OR(C24="",N(K24)=0),"",IF(K24>=PERCENTILE($K$12:$K$311,0.8),"★★★ Ouro",IF(K24>=MEDIAN($K$12:$K$311),"★★ Prata","★ Bronze")))
B25: =IF(C25="","",ROW()-11) | I25: =IF(OR(C25="",N(J25)=0),"",_xlfn.MINIFS(Compras!$B$6:$B$1005,Compras!$C$6:$C$1005,C25)) | J25: =IF(C25="","",COUNTIF(Compras!$C$6:$C$1005,C25)) | K25: =IF(C25="","",SUMIFS(Compras!$F$6:$F$1005,Compras!$C$6:$C$1005,C25)) | L25: =IF(OR(C25="",N(J25)=0),"",_xlfn.MAXIFS(Compras!$B$6:$B$1005,Compras!$C$6:$C$1005,C25)) | M25: =IF(C25="","",IF(N(J25)=0,"Sem compra",IF(TODAY()-L25<=90,"Ativo","Sumido"))) | N25: =IF(OR(C25="",N(K25)=0),"",IF(K25>=PERCENTILE($K$12:$K$311,0.8),"★★★ Ouro",IF(K25>=MEDIAN($K$12:$K$311),"★★ Prata","★ Bronze")))
B26: =IF(C26="","",ROW()-11) | I26: =IF(OR(C26="",N(J26)=0),"",_xlfn.MINIFS(Compras!$B$6:$B$1005,Compras!$C$6:$C$1005,C26)) | J26: =IF(C26="","",COUNTIF(Compras!$C$6:$C$1005,C26)) | K26: =IF(C26="","",SUMIFS(Compras!$F$6:$F$1005,Compras!$C$6:$C$1005,C26)) | L26: =IF(OR(C26="",N(J26)=0),"",_xlfn.MAXIFS(Compras!$B$6:$B$1005,Compras!$C$6:$C$1005,C26)) | M26: =IF(C26="","",IF(N(J26)=0,"Sem compra",IF(TODAY()-L26<=90,"Ativo","Sumido"))) | N26: =IF(OR(C26="",N(K26)=0),"",IF(K26>=PERCENTILE($K$12:$K$311,0.8),"★★★ Ouro",IF(K26>=MEDIAN($K$12:$K$311),"★★ Prata","★ Bronze")))
B27: =IF(C27="","",ROW()-11) | I27: =IF(OR(C27="",N(J27)=0),"",_xlfn.MINIFS(Compras!$B$6:$B$1005,Compras!$C$6:$C$1005,C27)) | J27: =IF(C27="","",COUNTIF(Compras!$C$6:$C$1005,C27)) | K27: =IF(C27="","",SUMIFS(Compras!$F$6:$F$1005,Compras!$C$6:$C$1005,C27)) | L27: =IF(OR(C27="",N(J27)=0),"",_xlfn.MAXIFS(Compras!$B$6:$B$1005,Compras!$C$6:$C$1005,C27)) | M27: =IF(C27="","",IF(N(J27)=0,"Sem compra",IF(TODAY()-L27<=90,"Ativo","Sumido"))) | N27: =IF(OR(C27="",N(K27)=0),"",IF(K27>=PERCENTILE($K$12:$K$311,0.8),"★★★ Ouro",IF(K27>=MEDIAN($K$12:$K$311),"★★ Prata","★ Bronze")))
B28: =IF(C28="","",ROW()-11) | I28: =IF(OR(C28="",N(J28)=0),"",_xlfn.MINIFS(Compras!$B$6:$B$1005,Compras!$C$6:$C$1005,C28)) | J28: =IF(C28="","",COUNTIF(Compras!$C$6:$C$1005,C28)) | K28: =IF(C28="","",SUMIFS(Compras!$F$6:$F$1005,Compras!$C$6:$C$1005,C28)) | L28: =IF(OR(C28="",N(J28)=0),"",_xlfn.MAXIFS(Compras!$B$6:$B$1005,Compras!$C$6:$C$1005,C28)) | M28: =IF(C28="","",IF(N(J28)=0,"Sem compra",IF(TODAY()-L28<=90,"Ativo","Sumido"))) | N28: =IF(OR(C28="",N(K28)=0),"",IF(K28>=PERCENTILE($K$12:$K$311,0.8),"★★★ Ouro",IF(K28>=MEDIAN($K$12:$K$311),"★★ Prata","★ Bronze")))
B29: =IF(C29="","",ROW()-11) | I29: =IF(OR(C29="",N(J29)=0),"",_xlfn.MINIFS(Compras!$B$6:$B$1005,Compras!$C$6:$C$1005,C29)) | J29: =IF(C29="","",COUNTIF(Compras!$C$6:$C$1005,C29)) | K29: =IF(C29="","",SUMIFS(Compras!$F$6:$F$1005,Compras!$C$6:$C$1005,C29)) | L29: =IF(OR(C29="",N(J29)=0),"",_xlfn.MAXIFS(Compras!$B$6:$B$1005,Compras!$C$6:$C$1005,C29)) | M29: =IF(C29="","",IF(N(J29)=0,"Sem compra",IF(TODAY()-L29<=90,"Ativo","Sumido"))) | N29: =IF(OR(C29="",N(K29)=0),"",IF(K29>=PERCENTILE($K$12:$K$311,0.8),"★★★ Ouro",IF(K29>=MEDIAN($K$12:$K$311),"★★ Prata","★ Bronze")))
B30: =IF(C30="","",ROW()-11) | I30: =IF(OR(C30="",N(J30)=0),"",_xlfn.MINIFS(Compras!$B$6:$B$1005,Compras!$C$6:$C$1005,C30)) | J30: =IF(C30="","",COUNTIF(Compras!$C$6:$C$1005,C30)) | K30: =IF(C30="","",SUMIFS(Compras!$F$6:$F$1005,Compras!$C$6:$C$1005,C30)) | L30: =IF(OR(C30="",N(J30)=0),"",_xlfn.MAXIFS(Compras!$B$6:$B$1005,Compras!$C$6:$C$1005,C30)) | M30: =IF(C30="","",IF(N(J30)=0,"Sem compra",IF(TODAY()-L30<=90,"Ativo","Sumido"))) | N30: =IF(OR(C30="",N(K30)=0),"",IF(K30>=PERCENTILE($K$12:$K$311,0.8),"★★★ Ouro",IF(K30>=MEDIAN($K$12:$K$311),"★★ Prata","★ Bronze")))
B31: =IF(C31="","",ROW()-11) | I31: =IF(OR(C31="",N(J31)=0),"",_xlfn.MINIFS(Compras!$B$6:$B$1005,Compras!$C$6:$C$1005,C31)) | J31: =IF(C31="","",COUNTIF(Compras!$C$6:$C$1005,C31)) | K31: =IF(C31="","",SUMIFS(Compras!$F$6:$F$1005,Compras!$C$6:$C$1005,C31)) | L31: =IF(OR(C31="",N(J31)=0),"",_xlfn.MAXIFS(Compras!$B$6:$B$1005,Compras!$C$6:$C$1005,C31)) | M31: =IF(C31="","",IF(N(J31)=0,"Sem compra",IF(TODAY()-L31<=90,"Ativo","Sumido"))) | N31: =IF(OR(C31="",N(K31)=0),"",IF(K31>=PERCENTILE($K$12:$K$311,0.8),"★★★ Ouro",IF(K31>=MEDIAN($K$12:$K$311),"★★ Prata","★ Bronze")))
B32: =IF(C32="","",ROW()-11) | I32: =IF(OR(C32="",N(J32)=0),"",_xlfn.MINIFS(Compras!$B$6:$B$1005,Compras!$C$6:$C$1005,C32)) | J32: =IF(C32="","",COUNTIF(Compras!$C$6:$C$1005,C32)) | K32: =IF(C32="","",SUMIFS(Compras!$F$6:$F$1005,Compras!$C$6:$C$1005,C32)) | L32: =IF(OR(C32="",N(J32)=0),"",_xlfn.MAXIFS(Compras!$B$6:$B$1005,Compras!$C$6:$C$1005,C32)) | M32: =IF(C32="","",IF(N(J32)=0,"Sem compra",IF(TODAY()-L32<=90,"Ativo","Sumido"))) | N32: =IF(OR(C32="",N(K32)=0),"",IF(K32>=PERCENTILE($K$12:$K$311,0.8),"★★★ Ouro",IF(K32>=MEDIAN($K$12:$K$311),"★★ Prata","★ Bronze")))
B33: =IF(C33="","",ROW()-11) | I33: =IF(OR(C33="",N(J33)=0),"",_xlfn.MINIFS(Compras!$B$6:$B$1005,Compras!$C$6:$C$1005,C33)) | J33: =IF(C33="","",COUNTIF(Compras!$C$6:$C$1005,C33)) | K33: =IF(C33="","",SUMIFS(Compras!$F$6:$F$1005,Compras!$C$6:$C$1005,C33)) | L33: =IF(OR(C33="",N(J33)=0),"",_xlfn.MAXIFS(Compras!$B$6:$B$1005,Compras!$C$6:$C$1005,C33)) | M33: =IF(C33="","",IF(N(J33)=0,"Sem compra",IF(TODAY()-L33<=90,"Ativo","Sumido"))) | N33: =IF(OR(C33="",N(K33)=0),"",IF(K33>=PERCENTILE($K$12:$K$311,0.8),"★★★ Ouro",IF(K33>=MEDIAN($K$12:$K$311),"★★ Prata","★ Bronze")))
B34: =IF(C34="","",ROW()-11) | I34: =IF(OR(C34="",N(J34)=0),"",_xlfn.MINIFS(Compras!$B$6:$B$1005,Compras!$C$6:$C$1005,C34)) | J34: =IF(C34="","",COUNTIF(Compras!$C$6:$C$1005,C34)) | K34: =IF(C34="","",SUMIFS(Compras!$F$6:$F$1005,Compras!$C$6:$C$1005,C34)) | L34: =IF(OR(C34="",N(J34)=0),"",_xlfn.MAXIFS(Compras!$B$6:$B$1005,Compras!$C$6:$C$1005,C34)) | M34: =IF(C34="","",IF(N(J34)=0,"Sem compra",IF(TODAY()-L34<=90,"Ativo","Sumido"))) | N34: =IF(OR(C34="",N(K34)=0),"",IF(K34>=PERCENTILE($K$12:$K$311,0.8),"★★★ Ouro",IF(K34>=MEDIAN($K$12:$K$311),"★★ Prata","★ Bronze")))
B35: =IF(C35="","",ROW()-11) | I35: =IF(OR(C35="",N(J35)=0),"",_xlfn.MINIFS(Compras!$B$6:$B$1005,Compras!$C$6:$C$1005,C35)) | J35: =IF(C35="","",COUNTIF(Compras!$C$6:$C$1005,C35)) | K35: =IF(C35="","",SUMIFS(Compras!$F$6:$F$1005,Compras!$C$6:$C$1005,C35)) | L35: =IF(OR(C35="",N(J35)=0),"",_xlfn.MAXIFS(Compras!$B$6:$B$1005,Compras!$C$6:$C$1005,C35)) | M35: =IF(C35="","",IF(N(J35)=0,"Sem compra",IF(TODAY()-L35<=90,"Ativo","Sumido"))) | N35: =IF(OR(C35="",N(K35)=0),"",IF(K35>=PERCENTILE($K$12:$K$311,0.8),"★★★ Ouro",IF(K35>=MEDIAN($K$12:$K$311),"★★ Prata","★ Bronze")))
... B311: =IF(C311="","",ROW()-11) | I311: =IF(OR(C311="",N(J311)=0),"",_xlfn.MINIFS(Compras!$B$6:$B$1005,Compras!$C$6:$C$1005,C311)) | J311: =IF(C311="","",COUNTIF(Compras!$C$6:$C$1005,C311)) | K311: =IF(C311="","",SUMIFS(Compras!$F$6:$F$1005,Compras!$C$6:$C$1005,C311)) | L311: =IF(OR(C311="",N(J311)=0),"",_xlfn.MAXIFS(Compras!$B$6:$B$1005,Compras!$C$6:$C$1005,C311)) | M311: =IF(C311="","",IF(N(J311)=0,"Sem compra",IF(TODAY()-L311<=90,"Ativo","Sumido"))) | N311: =IF(OR(C311="",N(K311)=0),"",IF(K311>=PERCENTILE($K$12:$K$311,0.8),"★★★ Ouro",IF(K311>=MEDIAN($K$12:$K$311),"★★ Prata","★ Bronze")))

Sheet Compras
B2: Compras dos clientes
B3: Registre cada compra escolhendo o cliente no menu. O cadastro é atualizado sozinho.
B5: Data | C5: Cliente | D5: O que comprou | E5: Forma de pagamento | F5: Valor | G5: Observação
B6: 46260 | C6: Mariana Costa | D6: Torta + doces | E6: PIX | F6: 145
B7: 46303 | C7: Mariana Costa | D7: Pedido do mês | E7: PIX | F7: 210
B8: 46283 | C8: Mariana Costa | D8: Kit presente | E8: PIX | F8: 145
B9: 46243 | C9: João Pereira | D9: Bolo personalizado | E9: Dinheiro | F9: 120
B10: 46249 | C10: João Pereira | D10: Kit presente | E10: Dinheiro | F10: 320
B11: 46261 | C11: João Pereira | D11: Bolo personalizado | E11: PIX | F11: 145
B12: 46282 | C12: Padaria Pão Quente | D12: Bolo personalizado | E12: Dinheiro | F12: 210
B13: 46101 | C13: Fernanda Ribeiro | D13: Cesta de café da manhã | E13: Crédito | F13: 120
B14: 46014 | C14: Fernanda Ribeiro | D14: Torta + doces | E14: PIX | F14: 120
B15: 46269 | C15: Lucas Martins | D15: Cesta de café da manhã | E15: PIX | F15: 320
B16: 46289 | C16: Lucas Martins | D16: Pedido do mês | E16: Dinheiro | F16: 120
B17: 46247 | C17: Lucas Martins | D17: Cesta de café da manhã | E17: Dinheiro | F17: 65
... B42: 46286 | C42: Camila Ferreira | D42: Pedido do mês | E42: Crédito | F42: 120

Sheet Como usar
B2: Como usar esta planilha
B3: Cadastro de Clientes
B5: Passo a passo
B6: 1 | C6: Na aba Clientes, cadastre cada cliente com contato, cidade, aniversário e como conheceu sua empresa.
B7: 2 | C7: Na aba Compras, registre cada compra escolhendo o cliente no menu.
B8: 3 | C8: Nº de compras, total comprado, primeira e última compra são calculados sozinhos.
B9: 4 | C9: A situação mostra quem está ativo e quem sumiu (sem comprar há mais de 90 dias).
B10: 5 | C10: A classificação Ouro, Prata e Bronze mostra os clientes que mais compram.
B12: Legenda de cores
C13: Células brancas: é aqui que você digita.
C14: Células cinza: calculam sozinhas. Não precisa mexer.
B16: Dicas
B17: • | C17: Use o filtro da coluna Situação para ver os sumidos e mandar uma mensagem ou promoção.
B18: • | C18: Aniversariantes do mês ficam destacados: um cupom de aniversário costuma trazer o cliente de volta.
B19: • | C19: Peça autorização do cliente para guardar os dados e enviar mensagens (LGPD).
B20: • | C20: As linhas de exemplo podem ser apagadas. Funciona no Excel, Google Planilhas e LibreOffice.
C22: Modelo gratuito do DocFree · docfree.com.br · planilhas e modelos sem cadastro
